BEGIN:VCALENDAR
VERSION:2.0
METHOD:PUBLISH
PRODID:-//Missouri State University/Calendar of Events//EN
CALSCALE:GREGORIAN
X-WR-TIMEZONE:America/Chicago
BEGIN:VTIMEZONE
TZID:America/Chicago
BEGIN:DAYLIGHT
TZOFFSETFROM:-0600
TZOFFSETTO:-0500
DTSTART:20070311T020000
RRULE:FREQ=YEARLY;BYMONTH=3;BYDAY=2SU
TZNAME:CDT
END:DAYLIGHT
BEGIN:STANDARD
TZOFFSETFROM:-0500
TZOFFSETTO:-0600
DTSTART:20071104T020000
RRULE:FREQ=YEARLY;BYMONTH=11;BYDAY=1SU
TZNAME:CST
END:STANDARD
END:VTIMEZONE
BEGIN:VEVENT
UID:e36f48fb-a800-4a8d-a27f-7ecb66ab1f6c.220717@calendar.missouristate.edu
CREATED:20220411T173053Z
LAST-MODIFIED:20220411T173053Z
LOCATION:Meyer Library\, Duane G. 120
SUMMARY:Handling tough topics on social media
DESCRIPTION:Have you ever dealt with an uncomfortable situation on your of
 fice or department's social media accounts? What would you have done diff
 erently?\n\n\nJoin us for a talk about best practices for handling tough 
 topics on social media at Missouri State\, presented from the perspective
  of a recent Missouri State graduate. We'll cover:\n\n\n\nA look at the c
 hanging social media climate.\nHow new social media features can create n
 egative assumptions.\nWays to help students feel more seen.\nWhy there's 
 no harm in humor.\n\nRSVP via email to strategiccommunication@missourista
 te.edu by April 18.
X-ALT-DESC;FMTTYPE=text/html:&lt;html&gt;&lt;head&gt;&lt;title&gt;&lt;/title&gt;&lt;/head&gt;&lt;body&gt;&lt;p&gt;Ha
 ve you ever dealt with an uncomfortable situation on your office or depar
 tment's social media accounts? What would you have done differently?&lt;/p&gt;\
 n&lt;p&gt;Join us for a talk about best practices for handling tough topics on 
 social media at Missouri State\, presented from the perspective of a rece
 nt Missouri State graduate. We'll cover:&lt;/p&gt;\n&lt;ul&gt;\n&lt;li&gt;A look at the cha
 nging social media climate.&lt;/li&gt;\n&lt;li&gt;How new social media features can c
 reate negative assumptions.&lt;/li&gt;\n&lt;li&gt;Ways to help students feel more see
 n.&lt;/li&gt;\n&lt;li&gt;Why there's no harm in humor.&lt;/li&gt;\n&lt;/ul&gt;\n&lt;p&gt;RSVP via email
  to&amp;nbsp\;&lt;a&gt;strategiccommunication@missouristate.edu&lt;/a&gt;&amp;nbsp\;by April 
 18.&lt;/p&gt;&lt;/body&gt;&lt;/html&gt;
DTSTART;TZID=America/Chicago:20220420T100000
DTEND;TZID=America/Chicago:20220420T110000
SEQUENCE:0
URL:115855.jpg
CATEGORIES:Current Students,Faculty,Staff
END:VEVENT
END:VCALENDAR