BEGIN:VCALENDAR
VERSION:2.0
METHOD:PUBLISH
PRODID:-//Missouri State University/Calendar of Events//EN
CALSCALE:GREGORIAN
X-WR-TIMEZONE:America/Chicago
BEGIN:VTIMEZONE
TZID:America/Chicago
BEGIN:DAYLIGHT
TZOFFSETFROM:-0600
TZOFFSETTO:-0500
DTSTART:20070311T020000
RRULE:FREQ=YEARLY;BYMONTH=3;BYDAY=2SU
TZNAME:CDT
END:DAYLIGHT
BEGIN:STANDARD
TZOFFSETFROM:-0500
TZOFFSETTO:-0600
DTSTART:20071104T020000
RRULE:FREQ=YEARLY;BYMONTH=11;BYDAY=1SU
TZNAME:CST
END:STANDARD
END:VTIMEZONE
BEGIN:VEVENT
UID:8e05e9cf-5d20-474b-95f9-340c4858f067.220727@calendar.missouristate.edu
CREATED:20220412T140851Z
LAST-MODIFIED:20220412T140851Z
LOCATION:Plaster Student Union\, Robert W. Ballroom West
SUMMARY:All Faculty Recognition Reception
DESCRIPTION:Join the Office of the Provost as we honor Faculty Award recip
 ients for this past academic year.  Awards include MSU Foundation\, Years
  of Service\, Honors College and many more.
X-ALT-DESC;FMTTYPE=text/html:&lt;html&gt;&lt;head&gt;&lt;title&gt;&lt;/title&gt;&lt;/head&gt;&lt;body&gt;&lt;p&gt;Jo
 in the Office of the Provost as we honor Faculty Award recipients for thi
 s past academic year.&amp;nbsp\; Awards include MSU Foundation\, Years of Ser
 vice\, Honors College and many more.&lt;/p&gt;&lt;/body&gt;&lt;/html&gt;
DTSTART;TZID=America/Chicago:20220503T153000
DTEND;TZID=America/Chicago:20220503T170000
SEQUENCE:0
URL:
CATEGORIES:Faculty
END:VEVENT
END:VCALENDAR