BEGIN:VCALENDAR
VERSION:2.0
METHOD:PUBLISH
PRODID:-//Missouri State University/Calendar of Events//EN
CALSCALE:GREGORIAN
X-WR-TIMEZONE:America/Chicago
BEGIN:VTIMEZONE
TZID:America/Chicago
BEGIN:DAYLIGHT
TZOFFSETFROM:-0600
TZOFFSETTO:-0500
DTSTART:20070311T020000
RRULE:FREQ=YEARLY;BYMONTH=3;BYDAY=2SU
TZNAME:CDT
END:DAYLIGHT
BEGIN:STANDARD
TZOFFSETFROM:-0500
TZOFFSETTO:-0600
DTSTART:20071104T020000
RRULE:FREQ=YEARLY;BYMONTH=11;BYDAY=1SU
TZNAME:CST
END:STANDARD
END:VTIMEZONE
BEGIN:VEVENT
UID:fda1ffd5-8adc-4360-ad0a-d021827a65d0.220737@calendar.missouristate.edu
CREATED:20220412T175400Z
LAST-MODIFIED:20220412T175400Z
LOCATION:Great Southern Bank Arena
SUMMARY:The BEARspys
DESCRIPTION:Missouri State SAAC will be hosting their annual BEARspys Awar
 d Ceremony Monday\, May\, 9th. \n\n\nThis year’s ceremony is open to the 
 public. Doors will open at 6:30pm at JQH Arena with the program following
  at 7:00pm. \n\n\nCome and support your favorite student athletes and all
  of their hard work. Go Bears!
X-ALT-DESC;FMTTYPE=text/html:&lt;html&gt;&lt;head&gt;&lt;title&gt;&lt;/title&gt;&lt;/head&gt;&lt;body&gt;&lt;p&gt;&lt;s
 pan&gt;Missouri State SAAC will be hosting their annual BEARspys Award Cerem
 ony Monday\, May\, 9&lt;sup&gt;th&lt;/sup&gt;. &lt;/span&gt;&lt;/p&gt;\n&lt;p&gt;&lt;span&gt;This year’s cere
 mony is open to the public. Doors will open at 6:30pm at JQH Arena with t
 he program following at 7:00pm. &lt;/span&gt;&lt;/p&gt;\n&lt;p&gt;&lt;span&gt;Come and support yo
 ur favorite student athletes and all of their hard work. Go Bears! &lt;/span
 &gt;&lt;/p&gt;&lt;/body&gt;&lt;/html&gt;
DTSTART;TZID=America/Chicago:20220509T183000
DTEND;TZID=America/Chicago:20220509T203000
SEQUENCE:0
URL:https://www.missouristatefoundation.org/the-bears-fund.aspx
CATEGORIES:Public,Alumni,Current Students,Faculty,Future Students,Staff
END:VEVENT
END:VCALENDAR