BEGIN:VCALENDAR
VERSION:2.0
METHOD:PUBLISH
PRODID:-//Missouri State University/Calendar of Events//EN
CALSCALE:GREGORIAN
X-WR-TIMEZONE:America/Chicago
BEGIN:VTIMEZONE
TZID:America/Chicago
BEGIN:DAYLIGHT
TZOFFSETFROM:-0600
TZOFFSETTO:-0500
DTSTART:20070311T020000
RRULE:FREQ=YEARLY;BYMONTH=3;BYDAY=2SU
TZNAME:CDT
END:DAYLIGHT
BEGIN:STANDARD
TZOFFSETFROM:-0500
TZOFFSETTO:-0600
DTSTART:20071104T020000
RRULE:FREQ=YEARLY;BYMONTH=11;BYDAY=1SU
TZNAME:CST
END:STANDARD
END:VTIMEZONE
BEGIN:VEVENT
UID:8e883cc6-4c7e-46bf-b298-aa8f09368601.220738@calendar.missouristate.edu
CREATED:20220412T192445Z
LAST-MODIFIED:20220412T192445Z
LOCATION:
SUMMARY:Administrative Professional Forum
DESCRIPTION:Come join us as we welcome our Missouri State University exper
 ts!\n\n\nWould you like to be the expert in your office for the Bachelor 
 of General Studies and/or DegreeWorks?\n\n\nWould you like to know more a
 bout what the Academic Advising and Transfer Center can do for you and yo
 ur students?\n\n\nWould you like to understand the DegreeWorks system pro
 cess\, while working through a degree audit?\n\n\nGo to My Learning Conne
 ction to register now!\n\n\nExperts are:\n\n\nDirector\, Ross Hawkins\, A
 cademic Advising and Transfer Center\, Bachelor of General Studies.\n\n\n
 Associate Director\, Nathan Hoff\, Office of the Registrar\, DegreeWorks. 
X-ALT-DESC;FMTTYPE=text/html:&lt;html&gt;&lt;head&gt;&lt;title&gt;&lt;/title&gt;&lt;/head&gt;&lt;body&gt;&lt;p&gt;Co
 me join us as we welcome our Missouri State University experts!&lt;/p&gt;\n&lt;p&gt;W
 ould you like to be the expert in your office for the&amp;nbsp\;&lt;strong&gt;Bache
 lor of&amp;nbsp\;General Studies&lt;/strong&gt; and/or &lt;strong&gt;DegreeWorks&lt;/strong&gt;
 ?&lt;/p&gt;\n&lt;p&gt;Would you like to know more about what the Academic Advising an
 d Transfer Center can do for you and your students?&lt;/p&gt;\n&lt;p&gt;Would you lik
 e to understand the DegreeWorks system process\, while working through a 
 degree audit?&lt;/p&gt;\n&lt;p&gt;Go to&amp;nbsp\;My&amp;nbsp\;Learning Connection to registe
 r now!&lt;/p&gt;\n&lt;p&gt;Experts are:&lt;/p&gt;\n&lt;p&gt;Director\, Ross Hawkins\, Academic Ad
 vising and Transfer Center\, Bachelor of General Studies.&lt;/p&gt;\n&lt;p&gt;Associa
 te Director\, Nathan Hoff\, Office of the Registrar\, DegreeWorks.&amp;nbsp\;
 &lt;/p&gt;&lt;/body&gt;&lt;/html&gt;
DTSTART;TZID=America/Chicago:20220428T110000
DTEND;TZID=America/Chicago:20220428T121500
SEQUENCE:1
URL:
CATEGORIES:Faculty,Staff
END:VEVENT
END:VCALENDAR