BEGIN:VCALENDAR
VERSION:2.0
METHOD:PUBLISH
PRODID:-//Missouri State University/Calendar of Events//EN
CALSCALE:GREGORIAN
X-WR-TIMEZONE:America/Chicago
BEGIN:VTIMEZONE
TZID:America/Chicago
BEGIN:DAYLIGHT
TZOFFSETFROM:-0600
TZOFFSETTO:-0500
DTSTART:20070311T020000
RRULE:FREQ=YEARLY;BYMONTH=3;BYDAY=2SU
TZNAME:CDT
END:DAYLIGHT
BEGIN:STANDARD
TZOFFSETFROM:-0500
TZOFFSETTO:-0600
DTSTART:20071104T020000
RRULE:FREQ=YEARLY;BYMONTH=11;BYDAY=1SU
TZNAME:CST
END:STANDARD
END:VTIMEZONE
BEGIN:VEVENT
UID:a8e6fdde-1d16-4e15-ac6a-95b8792230e6.220739@calendar.missouristate.edu
CREATED:20220413T131053Z
LAST-MODIFIED:20220413T131053Z
LOCATION:To Be Determined
SUMMARY:Preparing Your Student for Higher Education
DESCRIPTION:FREE WORKSHOP\n\n\nPreparing Your Student for Higher Education
 \n\n\nTuesday\, May 3\n\n\n6 to 8 p.m\n\n\nParkview High School Library\n
 \n\n516 W. Meadowmere St.\n\n\nThis two-hour free training focuses on nav
 igating college and post-secondary training for students with disabilitie
 s.\n\n\nNO REGISTRATION REQUIRED\n\n\nWorkshop Topics:\n\n\n·    Navigati
 ng the differences between special education support and disability suppo
 rt services.\n\n\n·    Identifying training opportunities for students wi
 th disabilities outside of college.\n\n\n·    Preparing your student to s
 ucceed in learning after graduation.\n\n\n·    Discussing ways technology
  can enhance learning opportunities for students of all ages and abilitie
 s.\n\n\n·    Exploring student conduct expectations in post-high school e
 ducational settings.\n\n\nThis workshop will be held in-person and over Z
 oom\n\n\n ATTEND VIA ZOOM\n\n\n\n\n\nA BLAST Project:\n\n\nSpringfield Pu
 blic Schools\, Abilities First and Missouri State University
X-ALT-DESC;FMTTYPE=text/html:&lt;html&gt;&lt;head&gt;&lt;title&gt;&lt;/title&gt;&lt;/head&gt;&lt;body&gt;&lt;p&gt;&lt;s
 trong&gt;FREE WORKSHOP&lt;/strong&gt;&lt;/p&gt;\n&lt;p&gt;&lt;em&gt;Preparing Your Student for Highe
 r Education&lt;/em&gt;&lt;/p&gt;\n&lt;p&gt;Tuesday\, May 3&lt;/p&gt;\n&lt;p&gt;6 to 8 p.m&lt;/p&gt;\n&lt;p&gt;Parkv
 iew High School Library&lt;/p&gt;\n&lt;p&gt;516 W. Meadowmere St.&lt;/p&gt;\n&lt;p&gt;This two-ho
 ur free training focuses on navigating college and post-secondary trainin
 g for students with disabilities.&lt;/p&gt;\n&lt;p&gt;&lt;strong&gt;NO REGISTRATION REQUIRE
 D&lt;/strong&gt;&lt;/p&gt;\n&lt;p&gt;Workshop Topics:&lt;/p&gt;\n&lt;p&gt;·&amp;nbsp\; &amp;nbsp\; Navigating t
 he differences between special education support and disability support s
 ervices.&lt;/p&gt;\n&lt;p&gt;·&amp;nbsp\; &amp;nbsp\; Identifying training opportunities for 
 students with disabilities outside of college.&lt;/p&gt;\n&lt;p&gt;·&amp;nbsp\; &amp;nbsp\; P
 reparing your student to succeed in learning after graduation.&lt;/p&gt;\n&lt;p&gt;·&amp;
 nbsp\; &amp;nbsp\; Discussing ways technology can enhance learning opportunit
 ies for students of all ages and abilities.&lt;/p&gt;\n&lt;p&gt;·&amp;nbsp\; &amp;nbsp\; Expl
 oring student conduct expectations in post-high school educational settin
 gs.&lt;/p&gt;\n&lt;p&gt;This workshop will be held in-person and over Zoom&lt;/p&gt;\n&lt;p&gt;&lt;a
  href="https://sps-org.zoom.us/j/99058549464#success"&gt;&amp;nbsp\;&lt;strong&gt;ATTE
 ND VIA ZOOM&lt;/strong&gt;&lt;/a&gt;&lt;/p&gt;\n&lt;p&gt;&lt;/p&gt;\n&lt;p&gt;A BLAST Project:&lt;/p&gt;\n&lt;p&gt;Spring
 field Public Schools\, Abilities First and Missouri State University&lt;/p&gt;&lt;
 /body&gt;&lt;/html&gt;
DTSTART;TZID=America/Chicago:20220503T180000
DTEND;TZID=America/Chicago:20220503T200000
SEQUENCE:0
URL:115865.png
CATEGORIES:Public,Faculty,Staff
END:VEVENT
END:VCALENDAR