BEGIN:VCALENDAR
VERSION:2.0
METHOD:PUBLISH
PRODID:-//Missouri State University/Calendar of Events//EN
CALSCALE:GREGORIAN
X-WR-TIMEZONE:America/Chicago
BEGIN:VTIMEZONE
TZID:America/Chicago
BEGIN:DAYLIGHT
TZOFFSETFROM:-0600
TZOFFSETTO:-0500
DTSTART:20070311T020000
RRULE:FREQ=YEARLY;BYMONTH=3;BYDAY=2SU
TZNAME:CDT
END:DAYLIGHT
BEGIN:STANDARD
TZOFFSETFROM:-0500
TZOFFSETTO:-0600
DTSTART:20071104T020000
RRULE:FREQ=YEARLY;BYMONTH=11;BYDAY=1SU
TZNAME:CST
END:STANDARD
END:VTIMEZONE
BEGIN:VEVENT
UID:d298fde2-3907-4d2f-b5ac-575275dedfad.220741@calendar.missouristate.edu
CREATED:20220419T190625Z
LAST-MODIFIED:20220419T190625Z
LOCATION:
SUMMARY:(Un)Holy War: Russian Radicalism\, Ukrainian Resistance and Reacti
 ve Imaginaries Abroad
DESCRIPTION:Free public lecture with MSU religious studies alumna Dr. Sara
 h Riccardi-Swartz. \n\n\nJoin via Zoom.\n\n\nRiccardi-Swartz is a Missour
 i State University Department of Religious Studies alumna (BA\, 2011\; MA
 \, 2014)\, whose primary area of interest while at MSU was Russian Orthod
 oxy. Her research and anthropological ethnographical experiences since th
 en contribute to a broad understanding of the current crisis in Ukraine a
 s it relates to religion and politics.\n\n\nThis event is free and open t
 o the public.
X-ALT-DESC;FMTTYPE=text/html:&lt;html&gt;&lt;head&gt;&lt;title&gt;&lt;/title&gt;&lt;/head&gt;&lt;body&gt;&lt;p&gt;Fr
 ee public lecture with MSU religious studies alumna Dr. Sarah Riccardi-Sw
 artz.&amp;nbsp\;&lt;/p&gt;\n&lt;p&gt;Join via &lt;a href="https://missouristate.zoom.us/j/98
 607571410?pwd=WThGK1dxT2o3Z1FTV0NGRlVtZkI1dz09"&gt;Zoom&lt;/a&gt;.&lt;/p&gt;\n&lt;p&gt;Riccard
 i-Swartz is a Missouri State University Department of Religious Studies a
 lumna (BA\, 2011\; MA\, 2014)\, whose primary area of interest while at M
 SU was Russian Orthodoxy. Her research and anthropological ethnographical
  experiences since then contribute to a broad understanding of the curren
 t crisis in Ukraine as it relates to religion and politics.&lt;/p&gt;\n&lt;p&gt;This 
 event is free and open to the public.&lt;/p&gt;&lt;/body&gt;&lt;/html&gt;
DTSTART;TZID=America/Chicago:20220428T170000
DTEND;TZID=America/Chicago:20220428T183000
SEQUENCE:0
URL:https://www.missouristate.edu/RelSt/Events.htm
CATEGORIES:Public,Alumni,Current Students,Faculty,Future Students,Staff
END:VEVENT
END:VCALENDAR