BEGIN:VCALENDAR
VERSION:2.0
METHOD:PUBLISH
PRODID:-//Missouri State University/Calendar of Events//EN
CALSCALE:GREGORIAN
X-WR-TIMEZONE:America/Chicago
BEGIN:VTIMEZONE
TZID:America/Chicago
BEGIN:DAYLIGHT
TZOFFSETFROM:-0600
TZOFFSETTO:-0500
DTSTART:20070311T020000
RRULE:FREQ=YEARLY;BYMONTH=3;BYDAY=2SU
TZNAME:CDT
END:DAYLIGHT
BEGIN:STANDARD
TZOFFSETFROM:-0500
TZOFFSETTO:-0600
DTSTART:20071104T020000
RRULE:FREQ=YEARLY;BYMONTH=11;BYDAY=1SU
TZNAME:CST
END:STANDARD
END:VTIMEZONE
BEGIN:VEVENT
UID:22e2fd5f-99b4-4e3e-a3c5-6ade21c331c5.220742@calendar.missouristate.edu
CREATED:20220413T150940Z
LAST-MODIFIED:20220413T150940Z
LOCATION:Strong Hall Amphitheater (east side of Strong Hall)
SUMMARY:Religious Studies Careers Night Panel
DESCRIPTION:Why religious studies?\n\n\nFind out by joining three MSU reli
 gious studies alumni\, Nissa Krier\, Hal Brower and Ty Melgren\, who will
  discuss how their major\, minor or graduate degree in religious studies 
 contributed to their success in a variety of careers. \n\n\nThis free eve
 nt is open to all students\, but will be of particular interest to all hu
 manities students.\n\n\nFree cookies will be provided!
X-ALT-DESC;FMTTYPE=text/html:&lt;html&gt;&lt;head&gt;&lt;title&gt;&lt;/title&gt;&lt;/head&gt;&lt;body&gt;&lt;p&gt;Wh
 y religious studies?&lt;/p&gt;\n&lt;p&gt;Find out by joining three MSU religious stud
 ies alumni\, Nissa Krier\, Hal Brower and Ty Melgren\, who will discuss h
 ow their major\, minor or graduate degree in religious studies contribute
 d to their success in a variety of careers.&amp;nbsp\;&lt;/p&gt;\n&lt;p&gt;This free even
 t is open to all students\, but will be of particular interest to all hum
 anities students.&lt;/p&gt;\n&lt;p&gt;Free cookies will be provided!&lt;/p&gt;&lt;/body&gt;&lt;/html&gt;
DTSTART;TZID=America/Chicago:20220421T170000
DTEND;TZID=America/Chicago:20220421T190000
SEQUENCE:0
URL:https://www.missouristate.edu/Assets/relst/SP22_careers_panel.pdf
CATEGORIES:Current Students
END:VEVENT
END:VCALENDAR