BEGIN:VCALENDAR
VERSION:2.0
METHOD:PUBLISH
PRODID:-//Missouri State University/Calendar of Events//EN
CALSCALE:GREGORIAN
X-WR-TIMEZONE:America/Chicago
BEGIN:VTIMEZONE
TZID:America/Chicago
BEGIN:DAYLIGHT
TZOFFSETFROM:-0600
TZOFFSETTO:-0500
DTSTART:20070311T020000
RRULE:FREQ=YEARLY;BYMONTH=3;BYDAY=2SU
TZNAME:CDT
END:DAYLIGHT
BEGIN:STANDARD
TZOFFSETFROM:-0500
TZOFFSETTO:-0600
DTSTART:20071104T020000
RRULE:FREQ=YEARLY;BYMONTH=11;BYDAY=1SU
TZNAME:CST
END:STANDARD
END:VTIMEZONE
BEGIN:VEVENT
UID:2ffd1430-84cf-4e02-8594-61b82f073ea1.220772@calendar.missouristate.edu
CREATED:20220420T194305Z
LAST-MODIFIED:20220420T194305Z
LOCATION:Hammons Hall for the Performing Arts\, Juanita K.
SUMMARY:President's Concert
DESCRIPTION:The Department of Music invites you to join us for the 2022 Pr
 esident's Concert\, featuring the performance of Carl Orff's "Carmina Bur
 ana" by the Missouri State University Symphony Orchestra and Grand Chorus
 .\n\n\nThe event also features soprano Chelsea Helm\, tenor Jared Rogers 
 and baritone Chris Thompson\, under the direction of Dr. Erin Plisco.
X-ALT-DESC;FMTTYPE=text/html:&lt;html&gt;&lt;head&gt;&lt;title&gt;&lt;/title&gt;&lt;/head&gt;&lt;body&gt;&lt;p&gt;Th
 e Department of Music invites you to join us for the &lt;a href="https://www
 .missouristate.edu/music/presidentsconcert/" target="_blank"&gt;2022 Preside
 nt's Concert&lt;/a&gt;\, featuring the performance of Carl Orff's "Carmina Bura
 na" by the&amp;nbsp\;&lt;a href="https://www.missouristate.edu/orchestra" target
 ="_blank"&gt;Missouri State University Symphony Orchestra&lt;/a&gt; and &lt;a href="h
 ttps://www.missouristate.edu/chorale" target="_blank"&gt;Grand Chorus&lt;/a&gt;.&lt;/
 p&gt;\n&lt;p&gt;The event also features soprano Chelsea Helm\, tenor Jared Rogers 
 and baritone Chris Thompson\, under the direction of &lt;a href="https://www
 .missouristate.edu/Music/erinplisco.aspx" target="_blank"&gt;Dr. Erin Plisco
 &lt;/a&gt;.&lt;/p&gt;&lt;/body&gt;&lt;/html&gt;
DTSTART;TZID=America/Chicago:20220501T153000
DTEND;TZID=America/Chicago:20220501T163000
SEQUENCE:0
URL:https://www.missouristate.edu/music/presidentsconcert/
CATEGORIES:Public,Alumni,Current Students,Faculty,Future Students,Staff
END:VEVENT
END:VCALENDAR