BEGIN:VCALENDAR
VERSION:2.0
METHOD:PUBLISH
PRODID:-//Missouri State University/Calendar of Events//EN
CALSCALE:GREGORIAN
X-WR-TIMEZONE:America/Chicago
BEGIN:VTIMEZONE
TZID:America/Chicago
BEGIN:DAYLIGHT
TZOFFSETFROM:-0600
TZOFFSETTO:-0500
DTSTART:20070311T020000
RRULE:FREQ=YEARLY;BYMONTH=3;BYDAY=2SU
TZNAME:CDT
END:DAYLIGHT
BEGIN:STANDARD
TZOFFSETFROM:-0500
TZOFFSETTO:-0600
DTSTART:20071104T020000
RRULE:FREQ=YEARLY;BYMONTH=11;BYDAY=1SU
TZNAME:CST
END:STANDARD
END:VTIMEZONE
BEGIN:VEVENT
UID:1e7cd331-245d-4803-8d72-a093cc0d5742.220773@calendar.missouristate.edu
CREATED:20220419T154004Z
LAST-MODIFIED:20220419T154004Z
LOCATION:https://us02web.zoom.us/j/83846339722
SUMMARY:Board of Governors Risk Management and Audit Committee Meeting
DESCRIPTION:Board of Governors Risk Management and Audit Committee Meeting
 \n\n\nCommittee meeting agendas can be found here:\n\n\n\nhttps://www.mis
 souristate.edu/BOG/committees.htm
X-ALT-DESC;FMTTYPE=text/html:&lt;html&gt;&lt;head&gt;&lt;title&gt;&lt;/title&gt;&lt;/head&gt;&lt;body&gt;&lt;p&gt;Bo
 ard of Governors Risk Management and Audit Committee Meeting&lt;/p&gt;\n&lt;p&gt;Comm
 ittee meeting agendas can be found here:&lt;/p&gt;\n&lt;ul&gt;\n&lt;li&gt;&lt;a href="https://
 www.missouristate.edu/BOG/committees.htm"&gt;https://www.missouristate.edu/B
 OG/committees.htm&lt;/a&gt;&lt;/li&gt;\n&lt;/ul&gt;&lt;/body&gt;&lt;/html&gt;
DTSTART;TZID=America/Chicago:20220427T130000
DTEND;TZID=America/Chicago:20220427T143000
SEQUENCE:0
URL:https://www.missouristate.edu/BOG/
CATEGORIES:Public,Alumni,Current Students,Faculty,Future Students,Staff
END:VEVENT
END:VCALENDAR