BEGIN:VCALENDAR
VERSION:2.0
METHOD:PUBLISH
PRODID:-//Missouri State University/Calendar of Events//EN
CALSCALE:GREGORIAN
X-WR-TIMEZONE:America/Chicago
BEGIN:VTIMEZONE
TZID:America/Chicago
BEGIN:DAYLIGHT
TZOFFSETFROM:-0600
TZOFFSETTO:-0500
DTSTART:20070311T020000
RRULE:FREQ=YEARLY;BYMONTH=3;BYDAY=2SU
TZNAME:CDT
END:DAYLIGHT
BEGIN:STANDARD
TZOFFSETFROM:-0500
TZOFFSETTO:-0600
DTSTART:20071104T020000
RRULE:FREQ=YEARLY;BYMONTH=11;BYDAY=1SU
TZNAME:CST
END:STANDARD
END:VTIMEZONE
BEGIN:VEVENT
UID:10942fec-6929-4f5a-b8dd-0a90ef8984ae.220778@calendar.missouristate.edu
CREATED:20220427T144450Z
LAST-MODIFIED:20220427T144450Z
LOCATION:Plaster Student Union\, Robert W. Theater
SUMMARY:Executive Vice President and Provost Open Forum with Candidate Dr.
  Meera Komarraju
DESCRIPTION:Join us for an open forum with Executive Vice President and Pr
 ovost candidate\, Dr. Meera Komarraju. \n\n\nKomarraju is the provost and
  vice chancellor for Academic Affairs at Southern Illinois University-Car
 bondale (SIUC)\, a position she has held since 2018. She served as dean o
 f the College of Liberal Arts at SIUC prior to being selected provost and
  has been a full-time member of the SIUC community since 2003\, holding i
 ncreasingly responsible positions and tenure in the Department of Psychol
 ogy.\n\n\nReview Dr. Komarraju's Application Vita.
X-ALT-DESC;FMTTYPE=text/html:&lt;html&gt;&lt;head&gt;&lt;title&gt;&lt;/title&gt;&lt;/head&gt;&lt;body&gt;&lt;p&gt;Jo
 in us for an open forum with Executive Vice President and Provost candida
 te\, Dr. Meera Komarraju.&amp;nbsp\;&lt;/p&gt;\n&lt;p&gt;Komarraju is the provost and vic
 e chancellor for Academic Affairs at Southern Illinois University-Carbond
 ale (SIUC)\, a position she has held since 2018. She served as dean of th
 e College of Liberal Arts at SIUC prior to being selected provost and has
  been a full-time member of the SIUC community since 2003\, holding incre
 asingly responsible positions and tenure in the Department of Psychology.
 &lt;/p&gt;\n&lt;p&gt;&lt;a href="https://www.missouristate.edu/Provost/_Files/MeeraKomar
 rajuVita.pdf"&gt;Review Dr. Komarraju's Application Vita&lt;/a&gt;.&lt;/p&gt;\n&lt;p&gt;&lt;/p&gt;&lt;/
 body&gt;&lt;/html&gt;
DTSTART;TZID=America/Chicago:20220428T143000
DTEND;TZID=America/Chicago:20220428T160000
SEQUENCE:0
URL:
CATEGORIES:Public,Current Students,Faculty,Staff
END:VEVENT
END:VCALENDAR