BEGIN:VCALENDAR
VERSION:2.0
METHOD:PUBLISH
PRODID:-//Missouri State University/Calendar of Events//EN
CALSCALE:GREGORIAN
X-WR-TIMEZONE:America/Chicago
BEGIN:VTIMEZONE
TZID:America/Chicago
BEGIN:DAYLIGHT
TZOFFSETFROM:-0600
TZOFFSETTO:-0500
DTSTART:20070311T020000
RRULE:FREQ=YEARLY;BYMONTH=3;BYDAY=2SU
TZNAME:CDT
END:DAYLIGHT
BEGIN:STANDARD
TZOFFSETFROM:-0500
TZOFFSETTO:-0600
DTSTART:20071104T020000
RRULE:FREQ=YEARLY;BYMONTH=11;BYDAY=1SU
TZNAME:CST
END:STANDARD
END:VTIMEZONE
BEGIN:VEVENT
UID:6b368bca-b06e-429c-b92d-f08c854827c3.220779@calendar.missouristate.edu
CREATED:20220427T140550Z
LAST-MODIFIED:20220427T140550Z
LOCATION:Plaster Student Union\, Robert W. Theater
SUMMARY:Executive Vice President and Provost Open Forum with Candidate Zor
 a Mulligan
DESCRIPTION:Join us for an open forum with Executive Vice President and Pr
 ovost candidate\, Commissioner Zora Mulligan. \n\n\nCommissioner Mulligan
  is the Commissioner of Higher Education for the State of Missouri\, a po
 sition she has held since 2016. She served as chief of staff for the Univ
 ersity of Missouri System from 2014-2016. Prior to that\, she was the exe
 cutive director for the Missouri Community College Association from 2010-
 2014. She also served as assistant commissioner\, general counsel and leg
 islative liaison for the State of Missouri from 2007-2010.\n\n\nReview Co
 mmissioner Mulligans' Application Vita. 
X-ALT-DESC;FMTTYPE=text/html:&lt;html&gt;&lt;head&gt;&lt;title&gt;&lt;/title&gt;&lt;/head&gt;&lt;body&gt;&lt;p&gt;&lt;s
 pan&gt;Join us for an open forum with Executive Vice President and Provost c
 andidate\, Commissioner Zora Mulligan.&amp;nbsp\;&lt;/span&gt;&lt;/p&gt;\n&lt;p&gt;Commissioner
  Mulligan is the Commissioner of Higher Education for the State of Missou
 ri\,&amp;nbsp\;a position she has held since 2016. She served as chief of sta
 ff for the University of Missouri System from 2014-2016. Prior to that\, 
 she was the executive director for the Missouri Community College Associa
 tion from 2010-2014. She also served as assistant commissioner\, general 
 counsel and legislative liaison for the State of Missouri from 2007-2010.
 &lt;span&gt;&lt;/span&gt;&lt;/p&gt;\n&lt;p&gt;&lt;a href="https://www.missouristate.edu/Provost/_Fil
 es/ZoraMulliganResume.pdf"&gt;Review Commissioner Mulligans' Application Vit
 a&lt;/a&gt;.&amp;nbsp\;&lt;/p&gt;\n&lt;p&gt;&lt;/p&gt;&lt;/body&gt;&lt;/html&gt;
DTSTART;TZID=America/Chicago:20220505T150000
DTEND;TZID=America/Chicago:20220505T163000
SEQUENCE:0
URL:
CATEGORIES:Public,Current Students,Faculty,Staff
END:VEVENT
END:VCALENDAR