BEGIN:VCALENDAR
VERSION:2.0
METHOD:PUBLISH
PRODID:-//Missouri State University/Calendar of Events//EN
CALSCALE:GREGORIAN
X-WR-TIMEZONE:America/Chicago
BEGIN:VTIMEZONE
TZID:America/Chicago
BEGIN:DAYLIGHT
TZOFFSETFROM:-0600
TZOFFSETTO:-0500
DTSTART:20070311T020000
RRULE:FREQ=YEARLY;BYMONTH=3;BYDAY=2SU
TZNAME:CDT
END:DAYLIGHT
BEGIN:STANDARD
TZOFFSETFROM:-0500
TZOFFSETTO:-0600
DTSTART:20071104T020000
RRULE:FREQ=YEARLY;BYMONTH=11;BYDAY=1SU
TZNAME:CST
END:STANDARD
END:VTIMEZONE
BEGIN:VEVENT
UID:354edf68-5822-43d6-a242-b2cfa9fa3f88.220781@calendar.missouristate.edu
CREATED:20220420T231318Z
LAST-MODIFIED:20220420T231318Z
LOCATION:Cheek Hall 102
SUMMARY:Lecture on War in Ukraine
DESCRIPTION:Maksym Kulik is a Ukrainian who is currently in Poland helping
  refugees. He will present a 50-minute lecture about the current situatio
 n from his vantage point and his love of Ukraine. A question period will 
 follow.\n\n\nThe lecture will be given in Cheek 102 on Monday\, May 2 at 
 3:00 pm\, as space allows.\n\n\nThis event is hosted by the students of M
 TH121: Multicultural Perspectives From the History of Mathematics.
X-ALT-DESC;FMTTYPE=text/html:&lt;html&gt;&lt;head&gt;&lt;title&gt;&lt;/title&gt;&lt;/head&gt;&lt;body&gt;&lt;p&gt;Ma
 ksym Kulik is a Ukrainian who is currently in Poland helping refugees. He
  will present a 50-minute lecture about the current situation from his va
 ntage point and his love of Ukraine. A question period will follow.&lt;/p&gt;\n
 &lt;p&gt;The lecture will be given in Cheek 102 on Monday\, May 2 at 3:00 pm\, 
 as space allows.&lt;/p&gt;\n&lt;p&gt;This event is hosted by the students of MTH121: 
 Multicultural Perspectives From the History of Mathematics.&lt;/p&gt;\n&lt;p&gt;&lt;/p&gt;&lt;
 /body&gt;&lt;/html&gt;
DTSTART;TZID=America/Chicago:20220502T150000
DTEND;TZID=America/Chicago:20220502T160000
SEQUENCE:0
URL:115880.jpg
CATEGORIES:Public,Current Students,Faculty,Staff
END:VEVENT
END:VCALENDAR