BEGIN:VCALENDAR
VERSION:2.0
METHOD:PUBLISH
PRODID:-//Missouri State University/Calendar of Events//EN
CALSCALE:GREGORIAN
X-WR-TIMEZONE:America/Chicago
BEGIN:VTIMEZONE
TZID:America/Chicago
BEGIN:DAYLIGHT
TZOFFSETFROM:-0600
TZOFFSETTO:-0500
DTSTART:20070311T020000
RRULE:FREQ=YEARLY;BYMONTH=3;BYDAY=2SU
TZNAME:CDT
END:DAYLIGHT
BEGIN:STANDARD
TZOFFSETFROM:-0500
TZOFFSETTO:-0600
DTSTART:20071104T020000
RRULE:FREQ=YEARLY;BYMONTH=11;BYDAY=1SU
TZNAME:CST
END:STANDARD
END:VTIMEZONE
BEGIN:VEVENT
UID:3a7a31a2-f9f0-4af2-811b-d21f37501a26.220793@calendar.missouristate.edu
CREATED:20220503T160655Z
LAST-MODIFIED:20220503T160655Z
LOCATION:Baker Bookstore Patio
SUMMARY:The Tent Sale at the Missouri State Bookstore 
DESCRIPTION:The BearWear Sale of the Year! \n\n\nThroughout the duration o
 f the Tent Sale\, enjoy growing discounts on BearWear\, souvenirs and eve
 rything else under the tent.\n\n\nMonday: Save 50%\n\n\nTuesday: Save 55%
 \n\n\nWednesday: Save 60% \n\n\nThursday: Save 65% \n\n\nFriday: Save 75%
 \n\n\nThis sale is in-store only. All tent sales are final. Offers cannot
  be applied to previous purchases. No other discounts apply.
X-ALT-DESC;FMTTYPE=text/html:&lt;html&gt;&lt;head&gt;&lt;title&gt;&lt;/title&gt;&lt;/head&gt;&lt;body&gt;&lt;p&gt;Th
 e BearWear Sale of the Year!&amp;nbsp\;&lt;/p&gt;\n&lt;p&gt;Throughout the duration of th
 e Tent Sale\, enjoy&amp;nbsp\;growing discounts on BearWear\, souvenirs and e
 verything else under the tent.&lt;/p&gt;\n&lt;p&gt;Monday: Save 50%&lt;/p&gt;\n&lt;p&gt;Tuesday: 
 Save 55%&lt;/p&gt;\n&lt;p&gt;Wednesday: Save 60%&amp;nbsp\;&lt;/p&gt;\n&lt;p&gt;Thursday: Save 65%&amp;nb
 sp\;&lt;/p&gt;\n&lt;p&gt;Friday: Save 75%&lt;/p&gt;\n&lt;p&gt;This sale is in-store only. All ten
 t sales are final. Offers&amp;nbsp\;cannot be applied to previous purchases. 
 No other discounts apply.&lt;/p&gt;&lt;/body&gt;&lt;/html&gt;
DTSTART;TZID=America/Chicago:20220509T083000
DTEND;TZID=America/Chicago:20220509T173000
SEQUENCE:1
URL:115881.JPG
CATEGORIES:Public,Alumni,Current Students,Faculty,Future Students,Staff
END:VEVENT
END:VCALENDAR