BEGIN:VCALENDAR
VERSION:2.0
METHOD:PUBLISH
PRODID:-//Missouri State University/Calendar of Events//EN
CALSCALE:GREGORIAN
X-WR-TIMEZONE:America/Chicago
BEGIN:VTIMEZONE
TZID:America/Chicago
BEGIN:DAYLIGHT
TZOFFSETFROM:-0600
TZOFFSETTO:-0500
DTSTART:20070311T020000
RRULE:FREQ=YEARLY;BYMONTH=3;BYDAY=2SU
TZNAME:CDT
END:DAYLIGHT
BEGIN:STANDARD
TZOFFSETFROM:-0500
TZOFFSETTO:-0600
DTSTART:20071104T020000
RRULE:FREQ=YEARLY;BYMONTH=11;BYDAY=1SU
TZNAME:CST
END:STANDARD
END:VTIMEZONE
BEGIN:VEVENT
UID:00000000-0000-0000-0000-000000000000.220804@calendar.missouristate.edu
CREATED:20220426T154517Z
LAST-MODIFIED:20220426T154517Z
LOCATION:To Be Determined
SUMMARY:7th Annual St. Louis Alumni Chapter Golf Tournament
DESCRIPTION:Build your team\, and hit The Missouri Bluffs Golf Club links 
 in St. Charles. Proceeds benefit St. Louis area students attending Missou
 ri State University.
X-ALT-DESC;FMTTYPE=text/html:&lt;html&gt;&lt;head&gt;&lt;title&gt;&lt;/title&gt;&lt;/head&gt;&lt;body&gt;&lt;p&gt;Bu
 ild your team\, and hit The Missouri Bluffs Golf Club links in St. Charle
 s. Proceeds benefit St. Louis area students attending Missouri State Univ
 ersity.&lt;br&gt;\n&lt;br&gt;\n&lt;/p&gt;&lt;/body&gt;&lt;/html&gt;
DTSTART;TZID=America/Chicago:20220929T090000
DTEND;TZID=America/Chicago:20220929T110000
SEQUENCE:0
URL:https://missouristate.imodules.com?sid=1691&amp;gid=2&amp;pgid=2796&amp;cid=4991&amp;e
 cid=4991&amp;ciid=17174&amp;crid=0
CATEGORIES:Public,Alumni,Parents and Family,Visitors
END:VEVENT
END:VCALENDAR