BEGIN:VCALENDAR
VERSION:2.0
METHOD:PUBLISH
PRODID:-//Missouri State University/Calendar of Events//EN
CALSCALE:GREGORIAN
X-WR-TIMEZONE:America/Chicago
BEGIN:VTIMEZONE
TZID:America/Chicago
BEGIN:DAYLIGHT
TZOFFSETFROM:-0600
TZOFFSETTO:-0500
DTSTART:20070311T020000
RRULE:FREQ=YEARLY;BYMONTH=3;BYDAY=2SU
TZNAME:CDT
END:DAYLIGHT
BEGIN:STANDARD
TZOFFSETFROM:-0500
TZOFFSETTO:-0600
DTSTART:20071104T020000
RRULE:FREQ=YEARLY;BYMONTH=11;BYDAY=1SU
TZNAME:CST
END:STANDARD
END:VTIMEZONE
BEGIN:VEVENT
UID:49cb3ab3-eca8-4c38-b06e-4c85fa48b4f6.220802@calendar.missouristate.edu
CREATED:20220426T171342Z
LAST-MODIFIED:20220426T171342Z
LOCATION:Plaster Student Union\, Robert W. 312
SUMMARY:Tough Talks: Policing and violence...Are there any answers?
DESCRIPTION:Disturbing images of citizens being harmed or lives lost in th
 e process of a traffic stop or incident with police have become fairly no
 rmal in our nation. Cries have been made to defund\, and yet violence has
  escalated. Is there a different approach or are we simply just a violent
  society that needs more policing and monitoring?\n\nWhat kind of communi
 ty are we creating and what can we do to change the patterns that are in 
 place? What are your thoughts? What can we do?\nJoin in the conversation.
X-ALT-DESC;FMTTYPE=text/html:&lt;html&gt;&lt;head&gt;&lt;title&gt;&lt;/title&gt;&lt;/head&gt;&lt;body&gt;&lt;div&gt;
 Disturbing images of citizens being harmed or lives lost in the process o
 f a traffic stop or incident with police have become fairly normal in our
  nation. Cries have been made to defund\, and yet violence has escalated.
  Is there a different approach or are we simply just a violent society th
 at needs more policing and monitoring?&lt;/div&gt;\n&lt;div&gt;&lt;/div&gt;\n&lt;div&gt;What kind
  of community are we creating and what can we do to change the patterns t
 hat are in place? What are your thoughts? What can we do?&lt;/div&gt;\n&lt;div&gt;Joi
 n in the conversation.&lt;/div&gt;&lt;/body&gt;&lt;/html&gt;
DTSTART;TZID=America/Chicago:20220427T123000
DTEND;TZID=America/Chicago:20220427T133000
SEQUENCE:0
URL:115885.png
CATEGORIES:Public,Alumni,Current Students,Faculty,Staff
END:VEVENT
END:VCALENDAR