BEGIN:VCALENDAR
VERSION:2.0
METHOD:PUBLISH
PRODID:-//Missouri State University/Calendar of Events//EN
CALSCALE:GREGORIAN
X-WR-TIMEZONE:America/Chicago
BEGIN:VTIMEZONE
TZID:America/Chicago
BEGIN:DAYLIGHT
TZOFFSETFROM:-0600
TZOFFSETTO:-0500
DTSTART:20070311T020000
RRULE:FREQ=YEARLY;BYMONTH=3;BYDAY=2SU
TZNAME:CDT
END:DAYLIGHT
BEGIN:STANDARD
TZOFFSETFROM:-0500
TZOFFSETTO:-0600
DTSTART:20071104T020000
RRULE:FREQ=YEARLY;BYMONTH=11;BYDAY=1SU
TZNAME:CST
END:STANDARD
END:VTIMEZONE
BEGIN:VEVENT
UID:3a47c942-a550-4ce1-a0c1-f6dafe68a792.220803@calendar.missouristate.edu
CREATED:20220426T172036Z
LAST-MODIFIED:20220426T172036Z
LOCATION:Plaster Free Enterprise Center\, Robert W. Jay Wasson IDEA Loft
SUMMARY:Dr. Jim Baker Retirement Celebration
DESCRIPTION:Join us as we celebrate Dr. Jim Baker\, the vice president for
  community and global partnerships (formerly research and economic develo
 pment).\n\n\nIn Baker's 28 years at Missouri State\, he's also served as 
 the assistant to the president\, director of the Ozarks Studies Institute
 \, interim vice president for administrative services\, chancellor of the
  Mountain Grove campus\, and director of the office of China programs. \n
 \n\nLight hors d'oeuvres\, coffee\, tea and water will be served. 
X-ALT-DESC;FMTTYPE=text/html:&lt;html&gt;&lt;head&gt;&lt;title&gt;&lt;/title&gt;&lt;/head&gt;&lt;body&gt;&lt;p&gt;Jo
 in us as we celebrate Dr. Jim Baker\, the vice president for community an
 d global partnerships (formerly research and economic development).&lt;/p&gt;\n
 &lt;p&gt;In Baker's 28 years at Missouri State\, he's also served as the assist
 ant to the president\, director of the Ozarks Studies Institute\, interim
  vice president for administrative services\, chancellor of the Mountain 
 Grove campus\, and director of the office of China programs.&amp;nbsp\;&lt;/p&gt;\n
 &lt;p&gt;Light hors d'oeuvres\, coffee\, tea and water will be served.&amp;nbsp\;&lt;/
 p&gt;&lt;/body&gt;&lt;/html&gt;
DTSTART;TZID=America/Chicago:20220513T150000
DTEND;TZID=America/Chicago:20220513T170000
SEQUENCE:0
URL:115886.jpg
CATEGORIES:Public,Alumni,Current Students,Faculty,Staff
END:VEVENT
END:VCALENDAR