BEGIN:VCALENDAR
VERSION:2.0
METHOD:PUBLISH
PRODID:-//Missouri State University/Calendar of Events//EN
CALSCALE:GREGORIAN
X-WR-TIMEZONE:America/Chicago
BEGIN:VTIMEZONE
TZID:America/Chicago
BEGIN:DAYLIGHT
TZOFFSETFROM:-0600
TZOFFSETTO:-0500
DTSTART:20070311T020000
RRULE:FREQ=YEARLY;BYMONTH=3;BYDAY=2SU
TZNAME:CDT
END:DAYLIGHT
BEGIN:STANDARD
TZOFFSETFROM:-0500
TZOFFSETTO:-0600
DTSTART:20071104T020000
RRULE:FREQ=YEARLY;BYMONTH=11;BYDAY=1SU
TZNAME:CST
END:STANDARD
END:VTIMEZONE
BEGIN:VEVENT
UID:233d7565-2be3-40d3-b3b5-5dd3b6b412b0.220810@calendar.missouristate.edu
CREATED:20230515T133729Z
LAST-MODIFIED:20230515T133729Z
LOCATION:To Be Determined
SUMMARY:System Update: Banner Outage Starting Friday\, May 26\, 2023
DESCRIPTION:Big changes are underway behind the scenes as Information Serv
 ices works to modernize our databases and enterprise resource system. Ove
 r Memorial Day weekend\, My Missouri State\, Admin Banner\, Workflow\, BD
 M\, SSB8\, Self Service 9\, DegreeWorks\, our custom web applications\, a
 nd all other systems reliant upon our database will be unavailable as we 
 apply updates and perform system maintenance. The updates being applied i
 mpact infrastructure and not user experience\, so our users will not enco
 unter any functional differences to our systems once the updates are in p
 lace.\n\n\nDuring this time\, there will be no impact to other systems su
 ch as: University networks\, phone systems\, main websites\, Blackboard\,
  Office 365\, email services\, video surveillance systems\, electronic do
 or access\, and the application for admission.\n\n\nSystem Update Schedul
 e: \n\n\n\nOutage begins Friday\, May 26\, 2023 at 5:00pm.\nOutage ends b
 y Sunday\, May 28\, 2023 at 5:00pm.\nOn Monday May 29\, 2023 additional v
 erification and testing will continue\, and access to Banner and related 
 systems may be intermittent throughout the day.\nFull system restoration 
 is expected by the beginning of the work day on Tuesday\, May 30\, 2023.\
 nHowever\, updates will be posted here if anything interferes with this s
 chedule. \n\n\n\n\nShould you have any questions or concerns\, please con
 tact Stacey Tune at 836-6555 or via email at StaceyTune@MissouriState.edu.
X-ALT-DESC;FMTTYPE=text/html:&lt;html&gt;&lt;head&gt;&lt;title&gt;&lt;/title&gt;&lt;/head&gt;&lt;body&gt;&lt;p&gt;Bi
 g changes are underway behind the scenes as Information Services works to
  modernize our databases and enterprise resource system. Over Memorial Da
 y weekend\, My Missouri State\, Admin Banner\, Workflow\, BDM\, SSB8\, Se
 lf Service 9\, DegreeWorks\, our custom web applications\, and all other 
 systems reliant upon our database will be unavailable as we apply updates
  and perform system maintenance. The updates being applied impact infrast
 ructure and not user experience\, so our users will not encounter any fun
 ctional differences to our systems once the updates are in place.&lt;/p&gt;\n&lt;p
 &gt;During this time\, there will be no impact to other systems such as: Uni
 versity networks\, phone systems\, main websites\, Blackboard\, Office 36
 5\, email services\, video surveillance systems\, electronic door access\
 , and the application for admission.&lt;/p&gt;\n&lt;p&gt;System Update Schedule: &lt;/p&gt;
 \n&lt;ul&gt;\n&lt;li&gt;Outage begins Friday\, May 26\, 2023 at 5:00pm.&lt;/li&gt;\n&lt;li&gt;Out
 age ends by Sunday\, May 28\, 2023 at 5:00pm.&lt;/li&gt;\n&lt;li&gt;On Monday May 29\
 , 2023 additional verification and testing will continue\, and access to 
 Banner and related systems may be intermittent throughout the day.&lt;/li&gt;\n
 &lt;li&gt;Full system restoration is expected by the beginning of the work day 
 on Tuesday\, May 30\, 2023.&lt;/li&gt;\n&lt;li&gt;However\, updates will be posted&amp;nb
 sp\;&lt;a href="https://blogs.missouristate.edu/is-alert/"&gt;here&lt;/a&gt; if anyth
 ing interferes with this schedule.&lt;span&gt;&amp;nbsp\;&lt;/span&gt;&lt;/li&gt;\n&lt;/ul&gt;\n&lt;p&gt;&lt;/
 p&gt;\n&lt;p&gt;Should you have any questions or concerns\, please contact Stacey 
 Tune at 836-6555 or via email at StaceyTune@MissouriState.edu.&lt;/p&gt;&lt;/body&gt;
 &lt;/html&gt;
DTSTART;TZID=America/Chicago:20230526T170000
DTEND;TZID=America/Chicago:20230526T235900
SEQUENCE:1
URL:https://calendar.missouristate.edu/viewevent.aspx?eventid=115892&amp;occur
 renceid=220810
CATEGORIES:Alumni,Current Students,Faculty,Staff
END:VEVENT
END:VCALENDAR