BEGIN:VCALENDAR
VERSION:2.0
METHOD:PUBLISH
PRODID:-//Missouri State University/Calendar of Events//EN
CALSCALE:GREGORIAN
X-WR-TIMEZONE:America/Chicago
BEGIN:VTIMEZONE
TZID:America/Chicago
BEGIN:DAYLIGHT
TZOFFSETFROM:-0600
TZOFFSETTO:-0500
DTSTART:20070311T020000
RRULE:FREQ=YEARLY;BYMONTH=3;BYDAY=2SU
TZNAME:CDT
END:DAYLIGHT
BEGIN:STANDARD
TZOFFSETFROM:-0500
TZOFFSETTO:-0600
DTSTART:20071104T020000
RRULE:FREQ=YEARLY;BYMONTH=11;BYDAY=1SU
TZNAME:CST
END:STANDARD
END:VTIMEZONE
BEGIN:VEVENT
UID:cc2acf6b-14d8-4427-9058-d8ff394c3d33.220825@calendar.missouristate.edu
CREATED:20220428T211224Z
LAST-MODIFIED:20220428T211224Z
LOCATION:Plaster Student Union\, Robert W. Ballroom West
SUMMARY:#BlackGirlMagic: Contemporary Representations of Black Girlhood in
  Social Media and Hip Hop Photo and Performance Exhibit
DESCRIPTION:This event is a photo and performance exhibit that showcases t
 he experiences of Black girls and women who attend predominately white in
 stitutions (PWIs). Come out to hear spoken word\, see art from students a
 nd local artists\, and walk through an exhibit that showcases the Black g
 irls and women’s experiences with racism\, sexism\, identity\, education\
 , and mental health. \n\n\nThis event is free and open to the public. RSV
 P here: RSVP Link
X-ALT-DESC;FMTTYPE=text/html:&lt;html&gt;&lt;head&gt;&lt;title&gt;&lt;/title&gt;&lt;/head&gt;&lt;body&gt;&lt;p&gt;&lt;s
 pan&gt;This event is a photo and performance exhibit that showcases the expe
 riences of Black girls and women who attend predominately white instituti
 ons (PWIs). Come out to hear spoken word\, see art from students and loca
 l artists\, and walk through an exhibit that showcases the Black girls an
 d women’s experiences with racism\, sexism\, identity\, education\, and m
 ental health.&amp;nbsp\;&lt;/span&gt;&lt;/p&gt;\n&lt;p&gt;This event is free and open to the pu
 blic. RSVP here:&amp;nbsp\;&lt;span&gt;&lt;a href="https://missouristate.co1.qualtrics
 .com/jfe/form/SV_3Iy8NLeQCkbSYtM" target="_blank" title="RSVP Link"&gt;RSVP 
 Link&lt;/a&gt;&lt;/span&gt;&lt;/p&gt;&lt;/body&gt;&lt;/html&gt;
DTSTART;TZID=America/Chicago:20220513T180000
DTEND;TZID=America/Chicago:20220513T200000
SEQUENCE:0
URL:115904.png
CATEGORIES:Public,Alumni,Current Students,Faculty,Future Students,Staff
END:VEVENT
END:VCALENDAR