BEGIN:VCALENDAR
VERSION:2.0
METHOD:PUBLISH
PRODID:-//Missouri State University/Calendar of Events//EN
CALSCALE:GREGORIAN
X-WR-TIMEZONE:America/Chicago
BEGIN:VTIMEZONE
TZID:America/Chicago
BEGIN:DAYLIGHT
TZOFFSETFROM:-0600
TZOFFSETTO:-0500
DTSTART:20070311T020000
RRULE:FREQ=YEARLY;BYMONTH=3;BYDAY=2SU
TZNAME:CDT
END:DAYLIGHT
BEGIN:STANDARD
TZOFFSETFROM:-0500
TZOFFSETTO:-0600
DTSTART:20071104T020000
RRULE:FREQ=YEARLY;BYMONTH=11;BYDAY=1SU
TZNAME:CST
END:STANDARD
END:VTIMEZONE
BEGIN:VEVENT
UID:00000000-0000-0000-0000-000000000000.220833@calendar.missouristate.edu
CREATED:20220429T184526Z
LAST-MODIFIED:20220429T184526Z
LOCATION:To Be Determined
SUMMARY:July 6\, 2022 Lunch with a Genius
DESCRIPTION:Join us for "University Safety in a Changing World\," presente
 d by David Hall\, director of safety at Missouri State University. Hall w
 as the former City of Springfield Fire Chief and recipient of the Chief F
 ire Officer Designation\, Center for Public Safety Excellence in 2012\, t
 he Fire Officer of the Year\, Springfield Fire Department in 2004 and the
  Missouri Instructor of the Year\, University of Missouri Fire and Rescue
  Training Institute in 2003.\n\n\n 
X-ALT-DESC;FMTTYPE=text/html:&lt;html&gt;&lt;head&gt;&lt;title&gt;&lt;/title&gt;&lt;/head&gt;&lt;body&gt;&lt;p&gt;&lt;a
  href="https://maroonation.missouristate.edu/s/1691/start.aspx?sid=1691&amp;a
 mp\;gid=2&amp;amp\;pgid=2787&amp;amp\;content_id=2530"&gt;&lt;span&gt;&lt;img alt="" src="htt
 ps://maroonation.missouristate.edu/s/1691/images/gid2/editor/foundation/2
 022/events/david-hall-missouri-state-university--director-of-safety.jpg"&gt;
 &lt;/span&gt;&lt;/a&gt;&lt;span&gt;Join us for "University Safety in a Changing World\," pr
 esented by&amp;nbsp\;David Hall\, director of safety at Missouri State Univer
 sity. Hall was the former City of Springfield Fire Chief and recipient of
  the Chief Fire Officer Designation\, Center for Public Safety Excellence
  in 2012\, the Fire Officer of the Year\, Springfield Fire Department in 
 2004 and the Missouri Instructor of the Year\, University of Missouri Fir
 e and Rescue Training Institute in 2003.&lt;/span&gt;&lt;/p&gt;\n&lt;div&gt;&amp;nbsp\;&lt;/div&gt;&lt;/
 body&gt;&lt;/html&gt;
DTSTART;TZID=America/Chicago:20220706T120000
DTEND;TZID=America/Chicago:20220706T130000
SEQUENCE:0
URL:https://missouristate.imodules.com?sid=1691&amp;gid=2&amp;pgid=2790&amp;cid=4983&amp;e
 cid=4983&amp;ciid=16480&amp;crid=0
CATEGORIES:Public,Alumni,Parents and Family,Visitors
END:VEVENT
END:VCALENDAR