BEGIN:VCALENDAR
VERSION:2.0
METHOD:PUBLISH
PRODID:-//Missouri State University/Calendar of Events//EN
CALSCALE:GREGORIAN
X-WR-TIMEZONE:America/Chicago
BEGIN:VTIMEZONE
TZID:America/Chicago
BEGIN:DAYLIGHT
TZOFFSETFROM:-0600
TZOFFSETTO:-0500
DTSTART:20070311T020000
RRULE:FREQ=YEARLY;BYMONTH=3;BYDAY=2SU
TZNAME:CDT
END:DAYLIGHT
BEGIN:STANDARD
TZOFFSETFROM:-0500
TZOFFSETTO:-0600
DTSTART:20071104T020000
RRULE:FREQ=YEARLY;BYMONTH=11;BYDAY=1SU
TZNAME:CST
END:STANDARD
END:VTIMEZONE
BEGIN:VEVENT
UID:5a1a664a-ade7-44ea-8a81-94a15cf0de02.220847@calendar.missouristate.edu
CREATED:20220503T174359Z
LAST-MODIFIED:20220503T174359Z
LOCATION:Plaster Student Union\, Robert W.
SUMMARY:FCTL 37th Showcase on Teaching and Learning
DESCRIPTION:Please join the Faculty Center for Teaching and Learning at th
 eir annual Showcase.\n\n\n8:00 a.m.-8:50 a.m. - Plenary with Breakfast\n\
 n\n9 a.m.- 10:00 a.m. - Faculty Experts Sessions\n\n\n10:00 am - 10:30 am
  - Faculty Poster Sessions\n\n\n10:30 a.m.-11:20 a.m. - Faculty Experts S
 essions\n\n\n11:30 a.m.-1 p.m.  - Keynote speaker and Luncheon with Dr. L
 inda Nilson\n\n\n1:30 p.m.-3:30 p.m. - Special Workshop with Dr. Linda Ni
 lson
X-ALT-DESC;FMTTYPE=text/html:&lt;html&gt;&lt;head&gt;&lt;title&gt;&lt;/title&gt;&lt;/head&gt;&lt;body&gt;&lt;p&gt;Pl
 ease join the Faculty Center for Teaching and Learning at their annual Sh
 owcase.&lt;/p&gt;\n&lt;p&gt;8:00 a.m.-8:50 a.m. - &lt;strong&gt;Plenary with Breakfast&lt;/str
 ong&gt;&lt;/p&gt;\n&lt;p&gt;9 a.m.- 10:00 a.m. -&amp;nbsp\;&lt;strong&gt;Faculty Experts Sessions&lt;
 /strong&gt;&lt;/p&gt;\n&lt;p&gt;10:00 am - 10:30 am&lt;strong&gt; - Faculty Poster Sessions&lt;/s
 trong&gt;&lt;/p&gt;\n&lt;p&gt;10:30 a.m.-11:20 a.m. -&amp;nbsp\;&lt;strong&gt;Faculty Experts Sess
 ions&lt;/strong&gt;&lt;/p&gt;\n&lt;p&gt;11:30 a.m.-1 p.m.&amp;nbsp\; - Keynote speaker and Lunc
 heon&amp;nbsp\;with &lt;strong&gt;Dr. Linda Nilson&lt;/strong&gt;&lt;/p&gt;\n&lt;p&gt;1:30 p.m.-3:30 
 p.m. - Special Workshop with &lt;strong&gt;Dr. Linda Nilson&lt;/strong&gt;&lt;/p&gt;&lt;/body&gt;
 &lt;/html&gt;
DTSTART;TZID=America/Chicago:20220817T083000
DTEND;TZID=America/Chicago:20220817T153000
SEQUENCE:0
URL:
CATEGORIES:Faculty
END:VEVENT
END:VCALENDAR