BEGIN:VCALENDAR
VERSION:2.0
METHOD:PUBLISH
PRODID:-//Missouri State University/Calendar of Events//EN
CALSCALE:GREGORIAN
X-WR-TIMEZONE:America/Chicago
BEGIN:VTIMEZONE
TZID:America/Chicago
BEGIN:DAYLIGHT
TZOFFSETFROM:-0600
TZOFFSETTO:-0500
DTSTART:20070311T020000
RRULE:FREQ=YEARLY;BYMONTH=3;BYDAY=2SU
TZNAME:CDT
END:DAYLIGHT
BEGIN:STANDARD
TZOFFSETFROM:-0500
TZOFFSETTO:-0600
DTSTART:20071104T020000
RRULE:FREQ=YEARLY;BYMONTH=11;BYDAY=1SU
TZNAME:CST
END:STANDARD
END:VTIMEZONE
BEGIN:VEVENT
UID:b941fd76-25ef-4c7c-be52-f61c0865b77d.220848@calendar.missouristate.edu
CREATED:20220503T200915Z
LAST-MODIFIED:20220503T200915Z
LOCATION:Plaster Student Union\, Robert W. North Mall\, Blair-Shannon Lawn
SUMMARY:SAC Presents: May Day
DESCRIPTION:Join SAC\, TC\, and SGA to celebrate the end of the semester!\
 n\n\nFree food\, games\, rides\, and so much more!
X-ALT-DESC;FMTTYPE=text/html:&lt;html&gt;&lt;head&gt;&lt;title&gt;&lt;/title&gt;&lt;/head&gt;&lt;body&gt;&lt;p&gt;Jo
 in SAC\, TC\, and SGA to celebrate the end of the semester!&lt;/p&gt;\n&lt;p&gt;Free 
 food\, games\, rides\, and so much more!&lt;/p&gt;&lt;/body&gt;&lt;/html&gt;
DTSTART;TZID=America/Chicago:20220511T110000
DTEND;TZID=America/Chicago:20220511T170000
SEQUENCE:0
URL:115917.jpg
CATEGORIES:Current Students,Faculty,Staff
END:VEVENT
END:VCALENDAR