BEGIN:VCALENDAR
VERSION:2.0
METHOD:PUBLISH
PRODID:-//Missouri State University/Calendar of Events//EN
CALSCALE:GREGORIAN
X-WR-TIMEZONE:America/Chicago
BEGIN:VTIMEZONE
TZID:America/Chicago
BEGIN:DAYLIGHT
TZOFFSETFROM:-0600
TZOFFSETTO:-0500
DTSTART:20070311T020000
RRULE:FREQ=YEARLY;BYMONTH=3;BYDAY=2SU
TZNAME:CDT
END:DAYLIGHT
BEGIN:STANDARD
TZOFFSETFROM:-0500
TZOFFSETTO:-0600
DTSTART:20071104T020000
RRULE:FREQ=YEARLY;BYMONTH=11;BYDAY=1SU
TZNAME:CST
END:STANDARD
END:VTIMEZONE
BEGIN:VEVENT
UID:a34462f9-9227-4103-9c18-6819af72406b.220850@calendar.missouristate.edu
CREATED:20220504T133528Z
LAST-MODIFIED:20220504T133528Z
LOCATION:Plaster Student Union\, Robert W. 314
SUMMARY:Tough Talks: What a year!
DESCRIPTION:The media often does the top stories of the year. As a univers
 ity community our year is a bit different given we have semesters. What a
 re the top stories for Bear Nation and what had the most impact on you? W
 hat would you do differently?  What changed you? What did you learn?
X-ALT-DESC;FMTTYPE=text/html:&lt;html&gt;&lt;head&gt;&lt;title&gt;&lt;/title&gt;&lt;/head&gt;&lt;body&gt;&lt;p&gt;Th
 e media often does the top stories of the year. As a university community
  our year is a bit different given we have semesters. What are the top st
 ories for Bear Nation and what had the most impact on you? What would you
  do differently?&amp;nbsp\; What changed you? What did you learn?&lt;/p&gt;&lt;/body&gt;&lt;
 /html&gt;
DTSTART;TZID=America/Chicago:20220504T133000
DTEND;TZID=America/Chicago:20220504T142000
SEQUENCE:0
URL:115919.png
CATEGORIES:Public,Alumni,Current Students,Faculty,Staff
END:VEVENT
END:VCALENDAR