BEGIN:VCALENDAR
VERSION:2.0
METHOD:PUBLISH
PRODID:-//Missouri State University/Calendar of Events//EN
CALSCALE:GREGORIAN
X-WR-TIMEZONE:America/Chicago
BEGIN:VTIMEZONE
TZID:America/Chicago
BEGIN:DAYLIGHT
TZOFFSETFROM:-0600
TZOFFSETTO:-0500
DTSTART:20070311T020000
RRULE:FREQ=YEARLY;BYMONTH=3;BYDAY=2SU
TZNAME:CDT
END:DAYLIGHT
BEGIN:STANDARD
TZOFFSETFROM:-0500
TZOFFSETTO:-0600
DTSTART:20071104T020000
RRULE:FREQ=YEARLY;BYMONTH=11;BYDAY=1SU
TZNAME:CST
END:STANDARD
END:VTIMEZONE
BEGIN:VEVENT
UID:67a4b2a0-a5b5-449c-b6e7-0d9f5ab73e62.220852@calendar.missouristate.edu
CREATED:20220504T191930Z
LAST-MODIFIED:20220504T191930Z
LOCATION:Meyer Library\, Duane G. 204
SUMMARY:2022 Spring Faculty Writing Retreats
DESCRIPTION:Faculty Writing Retreats will help you meet your writing goals
  for the year. Begin new articles\, revise and resubmit\, polish your boo
 k proposal\, complete your last edits\, and connect and collaborate with 
 other faculty scholars.\n\n\n \n\n\nRegister for any of the following dat
 es. If you register\, you may also choose to write along in your office o
 r at home and join our lunchtime roundtable via Zoom. Sessions are in Mey
 er Library Room 204 and all sessions are from 8:30 a.m. to 4 p.m.\n\n\n \
 n\n\nPlease register through My Learning Connection.
X-ALT-DESC;FMTTYPE=text/html:&lt;html&gt;&lt;head&gt;&lt;title&gt;&lt;/title&gt;&lt;/head&gt;&lt;body&gt;&lt;p&gt;Fa
 culty Writing Retreats will help you meet your writing goals for the year
 . Begin new articles\, revise and resubmit\, polish your book proposal\, 
 complete your last edits\, and connect and collaborate with other faculty
  scholars.&lt;/p&gt;\n&lt;p&gt;&amp;nbsp\;&lt;/p&gt;\n&lt;p&gt;Register for any of the following date
 s. If you register\, you may also choose to write along in your office or
  at home and join our lunchtime roundtable via Zoom. Sessions are in Meye
 r Library Room 204 and all sessions are from 8:30 a.m. to 4 p.m.&lt;/p&gt;\n&lt;p&gt;
 &amp;nbsp\;&lt;/p&gt;\n&lt;p&gt;Please register through My Learning Connection.&lt;/p&gt;&lt;/body
 &gt;&lt;/html&gt;
DTSTART;TZID=America/Chicago:20220525T083000
DTEND;TZID=America/Chicago:20220525T160000
SEQUENCE:0
URL:https://calendar.missouristate.edu/viewevent.aspx?eventid=115920&amp;occur
 renceid=220852
CATEGORIES:Faculty
END:VEVENT
END:VCALENDAR