BEGIN:VCALENDAR
VERSION:2.0
METHOD:PUBLISH
PRODID:-//Missouri State University/Calendar of Events//EN
CALSCALE:GREGORIAN
X-WR-TIMEZONE:America/Chicago
BEGIN:VTIMEZONE
TZID:America/Chicago
BEGIN:DAYLIGHT
TZOFFSETFROM:-0600
TZOFFSETTO:-0500
DTSTART:20070311T020000
RRULE:FREQ=YEARLY;BYMONTH=3;BYDAY=2SU
TZNAME:CDT
END:DAYLIGHT
BEGIN:STANDARD
TZOFFSETFROM:-0500
TZOFFSETTO:-0600
DTSTART:20071104T020000
RRULE:FREQ=YEARLY;BYMONTH=11;BYDAY=1SU
TZNAME:CST
END:STANDARD
END:VTIMEZONE
BEGIN:VEVENT
UID:e7a3b91b-45f7-427b-b24b-e8bd7b8d8095.220854@calendar.missouristate.edu
CREATED:20220510T194952Z
LAST-MODIFIED:20220510T194952Z
LOCATION:Brick City 1 312
SUMMARY:Art History and Visual Culture Undergraduate Symposium
DESCRIPTION:Five illustrated presentations on art historical topics by stu
 dents from MSU Art History. Coffee and light snacks provided.
X-ALT-DESC;FMTTYPE=text/html:&lt;html&gt;&lt;head&gt;&lt;title&gt;&lt;/title&gt;&lt;/head&gt;&lt;body&gt;&lt;p&gt;Fi
 ve illustrated presentations on art historical topics by students from MS
 U Art History. Coffee and light snacks provided.&lt;/p&gt;&lt;/body&gt;&lt;/html&gt;
DTSTART;TZID=America/Chicago:20220507T140000
DTEND;TZID=America/Chicago:20220507T160000
SEQUENCE:0
URL:115921.png
CATEGORIES:Public,Alumni,Current Students,Faculty,Staff
END:VEVENT
END:VCALENDAR