BEGIN:VCALENDAR
VERSION:2.0
METHOD:PUBLISH
PRODID:-//Missouri State University/Calendar of Events//EN
CALSCALE:GREGORIAN
X-WR-TIMEZONE:America/Chicago
BEGIN:VTIMEZONE
TZID:America/Chicago
BEGIN:DAYLIGHT
TZOFFSETFROM:-0600
TZOFFSETTO:-0500
DTSTART:20070311T020000
RRULE:FREQ=YEARLY;BYMONTH=3;BYDAY=2SU
TZNAME:CDT
END:DAYLIGHT
BEGIN:STANDARD
TZOFFSETFROM:-0500
TZOFFSETTO:-0600
DTSTART:20071104T020000
RRULE:FREQ=YEARLY;BYMONTH=11;BYDAY=1SU
TZNAME:CST
END:STANDARD
END:VTIMEZONE
BEGIN:VEVENT
UID:9af75a17-f9e6-4e9f-a94d-cf2bc432b7bd.220858@calendar.missouristate.edu
CREATED:20220510T195645Z
LAST-MODIFIED:20220510T195645Z
LOCATION:Plaster Student Union\, Robert W. PSU 313
SUMMARY:Open Forum: Sara Nimmo - Candidate for the position of Director\, 
 Magers Health and Wellness
DESCRIPTION:The Division of Student Affairs is thrilled to announce we wil
 l have two candidates on campus to interview for the position of Director
  of Magers Health and Wellness. We have set aside a question-and-answer s
 ession for campus and community members to interact with the candidates.\
 n\n\nThe first candidate is Sara Nimmo.\n\n\nSince June 2019\, she has se
 rved as the associate director of the University of North Carolina-Wilmin
 gton Student Health Center. Nimmo also held the position of interim direc
 tor of the Student Health Center from July 2020-March 2022. From 2014-201
 9\, she served as the assistant director for the Student Health Center of
  Southern Illinois University-Carbondale. Nimmo has been working in stude
 nt health for over 16 years.\n\n\nAccess the evaluation form.
X-ALT-DESC;FMTTYPE=text/html:&lt;html&gt;&lt;head&gt;&lt;title&gt;&lt;/title&gt;&lt;/head&gt;&lt;body&gt;&lt;p&gt;&lt;s
 pan&gt;The Division of Student Affairs is thrilled to announce we will have 
 two candidates on campus to interview for the position of Director of Mag
 ers Health and Wellness. We have set aside a question-and-answer session 
 for campus and community members to interact with the candidates.&lt;/span&gt;&lt;
 /p&gt;\n&lt;p&gt;The first candidate is Sara Nimmo.&lt;/p&gt;\n&lt;p&gt;&lt;span&gt;Since June 2019\
 , she has served as the associate director of the University of North Car
 olina-Wilmington Student Health Center. Nimmo also held the position of i
 nterim director of the Student Health Center from July 2020-March 2022. F
 rom 2014-2019\, she served as the assistant director for the Student Heal
 th Center of Southern Illinois University-Carbondale. Nimmo has been work
 ing in student health for over 16 years.&lt;/span&gt;&lt;/p&gt;\n&lt;p&gt;&lt;span&gt;Access the 
 &lt;a href="https://forms.office.com/r/JN3yb1TKnq"&gt;evaluation form&lt;/a&gt;.&lt;/spa
 n&gt;&lt;/p&gt;\n&lt;p&gt;&lt;/p&gt;&lt;/body&gt;&lt;/html&gt;
DTSTART;TZID=America/Chicago:20220513T091000
DTEND;TZID=America/Chicago:20220513T095500
SEQUENCE:0
URL:115923.jpg
CATEGORIES:Public,Alumni,Current Students,Faculty,Future Students,Staff
END:VEVENT
END:VCALENDAR