BEGIN:VCALENDAR
VERSION:2.0
METHOD:PUBLISH
PRODID:-//Missouri State University/Calendar of Events//EN
CALSCALE:GREGORIAN
X-WR-TIMEZONE:America/Chicago
BEGIN:VTIMEZONE
TZID:America/Chicago
BEGIN:DAYLIGHT
TZOFFSETFROM:-0600
TZOFFSETTO:-0500
DTSTART:20070311T020000
RRULE:FREQ=YEARLY;BYMONTH=3;BYDAY=2SU
TZNAME:CDT
END:DAYLIGHT
BEGIN:STANDARD
TZOFFSETFROM:-0500
TZOFFSETTO:-0600
DTSTART:20071104T020000
RRULE:FREQ=YEARLY;BYMONTH=11;BYDAY=1SU
TZNAME:CST
END:STANDARD
END:VTIMEZONE
BEGIN:VEVENT
UID:e286258d-7dd9-46c6-b29b-39e74c696c83.220859@calendar.missouristate.edu
CREATED:20220517T193249Z
LAST-MODIFIED:20220517T193249Z
LOCATION:Plaster Student Union\, Robert W. Ballroom East
SUMMARY:Open Forum: Jeffrey Del Vecchio - Candidate for the position of Di
 rector\, Magers Health and Wellness
DESCRIPTION:The Division of Student Affairs is thrilled to announce we wil
 l have two candidates on campus to interview for the position of Director
  of Magers Health and Wellness. We have set aside a question-and-answer s
 ession for campus and community members to interact with the candidates.\
 n\n\nThe second candidate is Jeffrey Del Vecchio.\n\n\nPlease join us to 
 interview Jeffrey Del Vecchio for the position of director\, Magers Healt
 h and Wellness. Del Vecchio received his Executive Master of Health Admin
 istration from Missouri State University. Currently\, Del Vecchio is a ph
 ysician assistant and director of clinical informatics at Mercy. He has b
 een a physician assistant at Mercy since 1997 and became the director of 
 clinical informatics in 2020. Del Vecchio has worked in the medical field
  for over 25 years. \n\n\nAccess the evaluation form.
X-ALT-DESC;FMTTYPE=text/html:&lt;html&gt;&lt;head&gt;&lt;title&gt;&lt;/title&gt;&lt;/head&gt;&lt;body&gt;&lt;p&gt;&lt;s
 pan&gt;The Division of Student Affairs is thrilled to announce we will have 
 two candidates on campus to interview for the position of Director of Mag
 ers Health and Wellness. We have set aside a question-and-answer session 
 for campus and community members to interact with the candidates.&lt;/span&gt;&lt;
 span&gt;&lt;/span&gt;&lt;/p&gt;\n&lt;p&gt;&lt;span&gt;&lt;/span&gt;&lt;span&gt;&lt;span&gt;The second candidate is Jef
 frey Del Vecchio.&lt;/span&gt;&lt;/span&gt;&lt;span&gt;&lt;/span&gt;&lt;/p&gt;\n&lt;p&gt;Please join us to in
 terview Jeffrey Del Vecchio for the position of director\, Magers Health 
 and Wellness. Del Vecchio received his Executive Master of Health Adminis
 tration from Missouri State University. Currently\, Del Vecchio is a phys
 ician assistant and director of clinical informatics at Mercy. He has bee
 n a physician assistant at Mercy since 1997 and became the director of cl
 inical informatics in 2020. Del Vecchio has worked in the medical field f
 or over 25 years.&amp;nbsp\;&lt;/p&gt;\n&lt;p&gt;Access the &lt;a href="https://forms.office
 .com/r/JN3yb1TKnq"&gt;evaluation form&lt;/a&gt;.&lt;/p&gt;&lt;/body&gt;&lt;/html&gt;
DTSTART;TZID=America/Chicago:20220517T153000
DTEND;TZID=America/Chicago:20220517T161500
SEQUENCE:0
URL:115924.jpg
CATEGORIES:Public,Alumni,Current Students,Faculty,Future Students,Staff
END:VEVENT
END:VCALENDAR