BEGIN:VCALENDAR
VERSION:2.0
METHOD:PUBLISH
PRODID:-//Missouri State University/Calendar of Events//EN
CALSCALE:GREGORIAN
X-WR-TIMEZONE:America/Chicago
BEGIN:VTIMEZONE
TZID:America/Chicago
BEGIN:DAYLIGHT
TZOFFSETFROM:-0600
TZOFFSETTO:-0500
DTSTART:20070311T020000
RRULE:FREQ=YEARLY;BYMONTH=3;BYDAY=2SU
TZNAME:CDT
END:DAYLIGHT
BEGIN:STANDARD
TZOFFSETFROM:-0500
TZOFFSETTO:-0600
DTSTART:20071104T020000
RRULE:FREQ=YEARLY;BYMONTH=11;BYDAY=1SU
TZNAME:CST
END:STANDARD
END:VTIMEZONE
BEGIN:VEVENT
UID:00000000-0000-0000-0000-000000000000.220863@calendar.missouristate.edu
CREATED:20220516T144526Z
LAST-MODIFIED:20220516T144526Z
LOCATION:To Be Determined
SUMMARY:38th Annual Lebanon Alumni Chapter Golf Tournament &amp; Coaches Carav
 an
DESCRIPTION:Tee-off at the 38th Annual Lebanon Alumni Chapter Golf Tournam
 ent with fellow Bears and friends of Missouri State. The tournament will 
 be held at GreatLife Golf and Fitness Center on Monday\, June 27.\n\n\n 
X-ALT-DESC;FMTTYPE=text/html:&lt;html&gt;&lt;head&gt;&lt;title&gt;&lt;/title&gt;&lt;/head&gt;&lt;body&gt;&lt;p&gt;Te
 e-off at the 38th Annual Lebanon Alumni Chapter Golf Tournament with fell
 ow Bears and friends of Missouri State. The tournament will be held at Gr
 eatLife Golf and Fitness Center on Monday\, June 27.&lt;/p&gt;\n&lt;p&gt;&amp;nbsp\;&lt;/p&gt;&lt;
 /body&gt;&lt;/html&gt;
DTSTART;TZID=America/Chicago:20220627T110000
DTEND;TZID=America/Chicago:20220627T130000
SEQUENCE:0
URL:https://missouristate.imodules.com?sid=1691&amp;gid=2&amp;pgid=2804&amp;cid=5001&amp;e
 cid=5001&amp;ciid=16414&amp;crid=0
CATEGORIES:Public,Alumni,Parents and Family,Visitors
END:VEVENT
END:VCALENDAR