BEGIN:VCALENDAR
VERSION:2.0
METHOD:PUBLISH
PRODID:-//Missouri State University/Calendar of Events//EN
CALSCALE:GREGORIAN
X-WR-TIMEZONE:America/Chicago
BEGIN:VTIMEZONE
TZID:America/Chicago
BEGIN:DAYLIGHT
TZOFFSETFROM:-0600
TZOFFSETTO:-0500
DTSTART:20070311T020000
RRULE:FREQ=YEARLY;BYMONTH=3;BYDAY=2SU
TZNAME:CDT
END:DAYLIGHT
BEGIN:STANDARD
TZOFFSETFROM:-0500
TZOFFSETTO:-0600
DTSTART:20071104T020000
RRULE:FREQ=YEARLY;BYMONTH=11;BYDAY=1SU
TZNAME:CST
END:STANDARD
END:VTIMEZONE
BEGIN:VEVENT
UID:6ef7673d-8ac8-42ce-ba7e-b6d20377c048.220865@calendar.missouristate.edu
CREATED:20220517T192404Z
LAST-MODIFIED:20220517T192404Z
LOCATION:Great Southern Bank Arena
SUMMARY:Fall 2022 Commencement
DESCRIPTION:Missouri State University Commencement for the fall 2022 semes
 ter will take place Dec. 16.
X-ALT-DESC;FMTTYPE=text/html:&lt;html&gt;&lt;head&gt;&lt;title&gt;&lt;/title&gt;&lt;/head&gt;&lt;body&gt;&lt;p&gt;Mi
 ssouri State University&amp;nbsp\;&lt;a href="https://www.missouristate.edu/Comm
 encement/default.htm"&gt;Commencement&lt;/a&gt; for the fall 2022 semester will ta
 ke place Dec. 16.&lt;/p&gt;&lt;/body&gt;&lt;/html&gt;
DTSTART;VALUE=DATE:20221216
DTEND;VALUE=DATE:20221217
SEQUENCE:0
URL:http://www.missouristate.edu/commencement
CATEGORIES:Public,Alumni,Current Students,Faculty,Staff
END:VEVENT
END:VCALENDAR