BEGIN:VCALENDAR
VERSION:2.0
METHOD:PUBLISH
PRODID:-//Missouri State University/Calendar of Events//EN
CALSCALE:GREGORIAN
X-WR-TIMEZONE:America/Chicago
BEGIN:VTIMEZONE
TZID:America/Chicago
BEGIN:DAYLIGHT
TZOFFSETFROM:-0600
TZOFFSETTO:-0500
DTSTART:20070311T020000
RRULE:FREQ=YEARLY;BYMONTH=3;BYDAY=2SU
TZNAME:CDT
END:DAYLIGHT
BEGIN:STANDARD
TZOFFSETFROM:-0500
TZOFFSETTO:-0600
DTSTART:20071104T020000
RRULE:FREQ=YEARLY;BYMONTH=11;BYDAY=1SU
TZNAME:CST
END:STANDARD
END:VTIMEZONE
BEGIN:VEVENT
UID:a40a8435-4633-4f8e-a271-aacc1138e5dc.220867@calendar.missouristate.edu
CREATED:20220517T191459Z
LAST-MODIFIED:20220517T191459Z
LOCATION:Great Southern Bank Arena
SUMMARY:Spring 2022 Commencement
DESCRIPTION:Missouri State University Commencement for the spring 2022 sem
 ester will take place May 20.
X-ALT-DESC;FMTTYPE=text/html:&lt;html&gt;&lt;head&gt;&lt;title&gt;&lt;/title&gt;&lt;/head&gt;&lt;body&gt;&lt;p&gt;Mi
 ssouri State University&amp;nbsp\;&lt;a href="https://www.missouristate.edu/comm
 encement/"&gt;Commencement&lt;/a&gt; for the spring 2022 semester will take place&amp;
 nbsp\;May 20.&lt;/p&gt;&lt;/body&gt;&lt;/html&gt;
DTSTART;VALUE=DATE:20220520
DTEND;VALUE=DATE:20220521
SEQUENCE:1
URL:http://www.missouristate.edu/commencement
CATEGORIES:Public,Community,Current Students,Faculty,Staff,Visitors
END:VEVENT
END:VCALENDAR