BEGIN:VCALENDAR
VERSION:2.0
METHOD:PUBLISH
PRODID:-//Missouri State University/Calendar of Events//EN
CALSCALE:GREGORIAN
X-WR-TIMEZONE:America/Chicago
BEGIN:VTIMEZONE
TZID:America/Chicago
BEGIN:DAYLIGHT
TZOFFSETFROM:-0600
TZOFFSETTO:-0500
DTSTART:20070311T020000
RRULE:FREQ=YEARLY;BYMONTH=3;BYDAY=2SU
TZNAME:CDT
END:DAYLIGHT
BEGIN:STANDARD
TZOFFSETFROM:-0500
TZOFFSETTO:-0600
DTSTART:20071104T020000
RRULE:FREQ=YEARLY;BYMONTH=11;BYDAY=1SU
TZNAME:CST
END:STANDARD
END:VTIMEZONE
BEGIN:VEVENT
UID:80b00574-bc47-4c59-a98e-b8ce3ea7cf49.220868@calendar.missouristate.edu
CREATED:20220518T213028Z
LAST-MODIFIED:20220518T213028Z
LOCATION:Meyer Library\, Duane G. 302
SUMMARY:Sold Out: Rare Wine Rare Books 2022 
DESCRIPTION:Update: This event is sold out. \n\n\nEscape to the gardens of
  France for Rare Wine Rare Books – Le Jardin Enchanté.\n\n\nThis MSU Libr
 aries signature event will be held at 6:30 p.m. July 22 in the stacks of 
 the Duane G. Meyer Library on the MSU Springfield Campus.\n\n\nRare Wine 
 Rare Books 2022 celebrates everything French – French cuisine\, wine and\
 , of course\, rare books. The event features a carefully selected six-fli
 ght wine menu and complementary full-course dinner. Throughout the evenin
 g\, University Libraries Special Collections and Archives will share rece
 nt and rare book acquisitions with guests.\n\n\nTickets are $150 each\, b
 ut seating is limited.\n\n\nPurchase tickets\n\n\nAll proceeds from Rare 
 Wine Rare Books support the Fraley Family Rare Books Endowment.\n\n\nThis
  event is exclusively for guests 21+. 
X-ALT-DESC;FMTTYPE=text/html:&lt;html&gt;&lt;head&gt;&lt;title&gt;&lt;/title&gt;&lt;/head&gt;&lt;body&gt;&lt;p&gt;&lt;s
 trong&gt;Update: This event is sold out.&amp;nbsp\;&lt;/strong&gt;&lt;/p&gt;\n&lt;p&gt;Escape to t
 he gardens of France for Rare Wine Rare Books – Le Jardin Enchanté.&lt;/p&gt;\n
 &lt;p&gt;This MSU Libraries signature event will be held at 6:30 p.m. July 22 i
 n the stacks of the Duane G. Meyer Library on the MSU Springfield Campus.
 &lt;/p&gt;\n&lt;p&gt;Rare Wine Rare Books 2022 celebrates everything French – French 
 cuisine\, wine and\, of course\, rare books. The event features a careful
 ly selected six-flight wine menu and complementary full-course dinner. Th
 roughout the evening\, University Libraries Special Collections and Archi
 ves will share recent and rare book acquisitions with guests.&lt;/p&gt;\n&lt;p&gt;Tic
 kets are $150 each\, but seating is limited.&lt;/p&gt;\n&lt;p&gt;&lt;a href="https://msu
 lib.me/RWRB"&gt;Purchase tickets&lt;/a&gt;&lt;/p&gt;\n&lt;p&gt;All proceeds from Rare Wine Rar
 e Books support the Fraley Family Rare Books Endowment.&lt;/p&gt;\n&lt;p&gt;This even
 t is exclusively for guests 21+.&amp;nbsp\;&lt;/p&gt;&lt;/body&gt;&lt;/html&gt;
DTSTART;TZID=America/Chicago:20220722T183000
DTEND;TZID=America/Chicago:20220722T220000
SEQUENCE:0
URL:http://msulib.me/rwrb
CATEGORIES:Public,Alumni,Faculty,Staff
END:VEVENT
END:VCALENDAR