BEGIN:VCALENDAR
VERSION:2.0
METHOD:PUBLISH
PRODID:-//Missouri State University/Calendar of Events//EN
CALSCALE:GREGORIAN
X-WR-TIMEZONE:America/Chicago
BEGIN:VTIMEZONE
TZID:America/Chicago
BEGIN:DAYLIGHT
TZOFFSETFROM:-0600
TZOFFSETTO:-0500
DTSTART:20070311T020000
RRULE:FREQ=YEARLY;BYMONTH=3;BYDAY=2SU
TZNAME:CDT
END:DAYLIGHT
BEGIN:STANDARD
TZOFFSETFROM:-0500
TZOFFSETTO:-0600
DTSTART:20071104T020000
RRULE:FREQ=YEARLY;BYMONTH=11;BYDAY=1SU
TZNAME:CST
END:STANDARD
END:VTIMEZONE
BEGIN:VEVENT
UID:9c1df3f1-f8f5-403c-97e2-160a942d0638.220870@calendar.missouristate.edu
CREATED:20220616T132339Z
LAST-MODIFIED:20220616T132339Z
LOCATION:Glass Hall\, David D. 101
SUMMARY:Three-Minute (3MT) Thesis Competition
DESCRIPTION:The 3MT is a competition where students summarize their resear
 ch in three minutes or less\, using pre-determined guidelines. \n\n\nThe 
 Graduate College webpage will be updated in the near future to contain mo
 re information.
X-ALT-DESC;FMTTYPE=text/html:&lt;html&gt;&lt;head&gt;&lt;title&gt;&lt;/title&gt;&lt;/head&gt;&lt;body&gt;&lt;p&gt;Th
 e 3MT is a competition where students summarize their research in three m
 inutes or less\, using pre-determined guidelines.&amp;nbsp\;&lt;/p&gt;\n&lt;p&gt;The&amp;nbsp
 \;&lt;a href="https://graduate.missouristate.edu/CurrentStudents/3-minute-th
 esis.htm"&gt;Graduate College webpage&lt;/a&gt; will be updated in the near future
  to contain more information.&lt;/p&gt;\n&lt;p&gt;&lt;/p&gt;&lt;/body&gt;&lt;/html&gt;
DTSTART;TZID=America/Chicago:20221104T170000
DTEND;TZID=America/Chicago:20221104T190000
SEQUENCE:1
URL:https://graduate.missouristate.edu/CurrentStudents/3-minute-thesis.htm
CATEGORIES:Public,Alumni,Current Students,Faculty,Future Students,Staff
END:VEVENT
END:VCALENDAR