BEGIN:VCALENDAR
VERSION:2.0
METHOD:PUBLISH
PRODID:-//Missouri State University/Calendar of Events//EN
CALSCALE:GREGORIAN
X-WR-TIMEZONE:America/Chicago
BEGIN:VTIMEZONE
TZID:America/Chicago
BEGIN:DAYLIGHT
TZOFFSETFROM:-0600
TZOFFSETTO:-0500
DTSTART:20070311T020000
RRULE:FREQ=YEARLY;BYMONTH=3;BYDAY=2SU
TZNAME:CDT
END:DAYLIGHT
BEGIN:STANDARD
TZOFFSETFROM:-0500
TZOFFSETTO:-0600
DTSTART:20071104T020000
RRULE:FREQ=YEARLY;BYMONTH=11;BYDAY=1SU
TZNAME:CST
END:STANDARD
END:VTIMEZONE
BEGIN:VEVENT
UID:ddfeb907-3b99-4c38-b4e8-47cff4803903.220871@calendar.missouristate.edu
CREATED:20220616T132932Z
LAST-MODIFIED:20220616T132932Z
LOCATION:Plaster Student Union\, Robert W. Grand Ballroom
SUMMARY:Einhellig Graduate Interdisciplinary Forum 
DESCRIPTION:The Einhellig Graduate Interdisciplinary Forum is a celebratio
 n of graduate student achievements. We invite all of you to join us to of
 fer your encouragement and take part in the discussions our students have
  started. This is a wonderful avenue for the graduate students to highlig
 ht their research and creative works.
X-ALT-DESC;FMTTYPE=text/html:&lt;html&gt;&lt;head&gt;&lt;title&gt;&lt;/title&gt;&lt;/head&gt;&lt;body&gt;&lt;p&gt;Th
 e Einhellig Graduate Interdisciplinary Forum is a celebration of graduate
  student achievements. We invite all of you to join us to offer your enco
 uragement and take part in the discussions our students have started. Thi
 s is a wonderful avenue for the graduate students to highlight their rese
 arch and creative works.&lt;/p&gt;&lt;/body&gt;&lt;/html&gt;
DTSTART;TZID=America/Chicago:20230429T080000
DTEND;TZID=America/Chicago:20230429T130000
SEQUENCE:0
URL:https://graduate.missouristate.edu/CurrentStudents/IDF.htm
CATEGORIES:Public,Alumni,Current Students,Faculty,Future Students
END:VEVENT
END:VCALENDAR