BEGIN:VCALENDAR
VERSION:2.0
METHOD:PUBLISH
PRODID:-//Missouri State University/Calendar of Events//EN
CALSCALE:GREGORIAN
X-WR-TIMEZONE:America/Chicago
BEGIN:VTIMEZONE
TZID:America/Chicago
BEGIN:DAYLIGHT
TZOFFSETFROM:-0600
TZOFFSETTO:-0500
DTSTART:20070311T020000
RRULE:FREQ=YEARLY;BYMONTH=3;BYDAY=2SU
TZNAME:CDT
END:DAYLIGHT
BEGIN:STANDARD
TZOFFSETFROM:-0500
TZOFFSETTO:-0600
DTSTART:20071104T020000
RRULE:FREQ=YEARLY;BYMONTH=11;BYDAY=1SU
TZNAME:CST
END:STANDARD
END:VTIMEZONE
BEGIN:VEVENT
UID:547c8e9d-6094-4c46-854f-48ce43dc189d.222202@calendar.missouristate.edu
CREATED:20220908T144805Z
LAST-MODIFIED:20220908T144805Z
LOCATION:To Be Determined
SUMMARY:Marlee Matlin VIP Reception
DESCRIPTION:Academy Award\, Oscar and Golden Globe Award winner\, and barr
 ier-breaking inspiration\, Marlee Matlin is coming to Missouri State Univ
 ersity. Matlin will be the 2022 Public Affairs Conference keynote speaker
 . Register to attend the VIP reception prior to the keynote to meet Matli
 n at 5:30 p.m. at The Old Glass Place.
X-ALT-DESC;FMTTYPE=text/html:&lt;html&gt;&lt;head&gt;&lt;title&gt;&lt;/title&gt;&lt;/head&gt;&lt;body&gt;&lt;p&gt;Ac
 ademy Award\, Oscar and Golden Globe Award winner\, and barrier-breaking 
 inspiration\, Marlee Matlin is coming to Missouri State University. Matli
 n will be the 2022 Public Affairs Conference keynote speaker.&amp;nbsp\;Regis
 ter to attend the VIP reception prior to the keynote to meet Matlin at 5:
 30 p.m. at&amp;nbsp\;The Old Glass Place.&lt;br&gt; &lt;/p&gt;&lt;/body&gt;&lt;/html&gt;
DTSTART;TZID=America/Chicago:20220920T173000
DTEND;TZID=America/Chicago:20220920T193000
SEQUENCE:0
URL:https://missouristate.imodules.com?sid=1691&amp;gid=2&amp;pgid=2810&amp;cid=5009&amp;e
 cid=5009&amp;ciid=17054&amp;crid=0
CATEGORIES:Public,Alumni,Parents and Family,Visitors
END:VEVENT
END:VCALENDAR