BEGIN:VCALENDAR
VERSION:2.0
METHOD:PUBLISH
PRODID:-//Missouri State University/Calendar of Events//EN
CALSCALE:GREGORIAN
X-WR-TIMEZONE:America/Chicago
BEGIN:VTIMEZONE
TZID:America/Chicago
BEGIN:DAYLIGHT
TZOFFSETFROM:-0600
TZOFFSETTO:-0500
DTSTART:20070311T020000
RRULE:FREQ=YEARLY;BYMONTH=3;BYDAY=2SU
TZNAME:CDT
END:DAYLIGHT
BEGIN:STANDARD
TZOFFSETFROM:-0500
TZOFFSETTO:-0600
DTSTART:20071104T020000
RRULE:FREQ=YEARLY;BYMONTH=11;BYDAY=1SU
TZNAME:CST
END:STANDARD
END:VTIMEZONE
BEGIN:VEVENT
UID:796e9803-44ee-4e29-a3bb-a49a47a59bcb.220879@calendar.missouristate.edu
CREATED:20220526T182252Z
LAST-MODIFIED:20220526T182252Z
LOCATION:Meyer Library\, Duane G.
SUMMARY:Summer Carillon Series: Jeremy Chesman
DESCRIPTION:Missouri State University Carillonist Dr. Jeremy Chesman perfo
 rms a concert on the bells of the Jane A. Meyer carillon. Tours will be a
 vailable after the concert.
X-ALT-DESC;FMTTYPE=text/html:&lt;html&gt;&lt;head&gt;&lt;title&gt;&lt;/title&gt;&lt;/head&gt;&lt;body&gt;&lt;p&gt;Mi
 ssouri State University Carillonist Dr. Jeremy Chesman performs a concert
  on the bells of the Jane A. Meyer carillon. Tours will be available afte
 r the concert.&lt;/p&gt;&lt;/body&gt;&lt;/html&gt;
DTSTART;TZID=America/Chicago:20220710T190000
DTEND;TZID=America/Chicago:20220710T200000
SEQUENCE:0
URL:https://www.missouristate.edu/carillon/
CATEGORIES:Public,Alumni,Current Students,Faculty,Future Students,Staff
END:VEVENT
END:VCALENDAR