BEGIN:VCALENDAR
VERSION:2.0
METHOD:PUBLISH
PRODID:-//Missouri State University/Calendar of Events//EN
CALSCALE:GREGORIAN
X-WR-TIMEZONE:America/Chicago
BEGIN:VTIMEZONE
TZID:America/Chicago
BEGIN:DAYLIGHT
TZOFFSETFROM:-0600
TZOFFSETTO:-0500
DTSTART:20070311T020000
RRULE:FREQ=YEARLY;BYMONTH=3;BYDAY=2SU
TZNAME:CDT
END:DAYLIGHT
BEGIN:STANDARD
TZOFFSETFROM:-0500
TZOFFSETTO:-0600
DTSTART:20071104T020000
RRULE:FREQ=YEARLY;BYMONTH=11;BYDAY=1SU
TZNAME:CST
END:STANDARD
END:VTIMEZONE
BEGIN:VEVENT
UID:1e2d3770-c698-47d7-9352-488ef909912a.220882@calendar.missouristate.edu
CREATED:20220526T165003Z
LAST-MODIFIED:20220526T165003Z
LOCATION:Plaster Student Union\, Robert W. Ballroom East &amp; West
SUMMARY:Annual Emeriti Dinner
DESCRIPTION:The Annual Emeriti Dinner will be held for faculty and staff w
 ho have retired with Emeritus status from Missouri State University. Rece
 ption will begin at 5:45 p.m. in the PSU Ballroom\, followed by dinner at
  6:00 p.m. 
X-ALT-DESC;FMTTYPE=text/html:&lt;html&gt;&lt;head&gt;&lt;title&gt;&lt;/title&gt;&lt;/head&gt;&lt;body&gt;&lt;p&gt;Th
 e Annual Emeriti Dinner will be held for faculty and staff who have retir
 ed with Emeritus status from Missouri State University. Reception will be
 gin at 5:45 p.m. in the PSU Ballroom\, followed by dinner at 6:00 p.m.&amp;nb
 sp\;&lt;/p&gt;&lt;/body&gt;&lt;/html&gt;
DTSTART;TZID=America/Chicago:20220628T173000
DTEND;TZID=America/Chicago:20220628T193000
SEQUENCE:0
URL:https://calendar.missouristate.edu/viewevent.aspx?eventid=115947&amp;occur
 renceid=220882
CATEGORIES:Faculty,Staff
END:VEVENT
END:VCALENDAR