BEGIN:VCALENDAR
VERSION:2.0
METHOD:PUBLISH
PRODID:-//Missouri State University/Calendar of Events//EN
CALSCALE:GREGORIAN
X-WR-TIMEZONE:America/Chicago
BEGIN:VTIMEZONE
TZID:America/Chicago
BEGIN:DAYLIGHT
TZOFFSETFROM:-0600
TZOFFSETTO:-0500
DTSTART:20070311T020000
RRULE:FREQ=YEARLY;BYMONTH=3;BYDAY=2SU
TZNAME:CDT
END:DAYLIGHT
BEGIN:STANDARD
TZOFFSETFROM:-0500
TZOFFSETTO:-0600
DTSTART:20071104T020000
RRULE:FREQ=YEARLY;BYMONTH=11;BYDAY=1SU
TZNAME:CST
END:STANDARD
END:VTIMEZONE
BEGIN:VEVENT
UID:fac232e5-3e51-4ef5-b86e-764e140b5947.220887@calendar.missouristate.edu
CREATED:20220616T135024Z
LAST-MODIFIED:20220616T135024Z
LOCATION:Hammons Student Center\, John Q.
SUMMARY:Sneaker Soiree
DESCRIPTION:Rock your favorite party kicks and support Missouri State Athl
 etics programs during the 2022 Sneaker Soiree. \n\n\nThe auction serves a
 s the primary fundraiser for Missouri State University's intercollegiate 
 athletic programs. This year's proceeds will benefit the various sports t
 eams at MSU and serve as a social event to kick off the upcoming 2022-23 
 athletic year.\n\n\n\nDoors open at 5 p.m.\nSilent auction bidding 5:15-7
 :30 p.m.\nLive auction bidding 7:45 p.m.\n\nNote: Tickets will be availab
 le at the door for the event.
X-ALT-DESC;FMTTYPE=text/html:&lt;html&gt;&lt;head&gt;&lt;title&gt;&lt;/title&gt;&lt;/head&gt;&lt;body&gt;&lt;p ti
 tle=""&gt;Rock your favorite party kicks and support Missouri State Athletic
 s programs during the 2022 Sneaker Soiree.&amp;nbsp\;&lt;/p&gt;\n&lt;p title=""&gt;The au
 ction serves as the primary fundraiser for Missouri State University's in
 tercollegiate athletic programs. This year's proceeds will benefit the va
 rious sports teams at MSU and serve as a social event to kick off the upc
 oming 2022-23 athletic year.&lt;strong&gt;&lt;/strong&gt;&lt;/p&gt;\n&lt;ul&gt;\n&lt;li title=""&gt;&lt;st
 rong&gt;Doors open at 5 p.m.&lt;/strong&gt;&lt;/li&gt;\n&lt;li&gt;&lt;strong&gt;Silent auction biddi
 ng 5:15-7:30 p.m.&lt;/strong&gt;&lt;/li&gt;\n&lt;li&gt;&lt;strong&gt;Live auction bidding 7:45 p.
 m.&lt;/strong&gt;&lt;/li&gt;\n&lt;/ul&gt;\n&lt;p&gt;&lt;strong&gt;Note: Tickets will be available at th
 e door for the event.&lt;/strong&gt;&lt;/p&gt;&lt;/body&gt;&lt;/html&gt;
DTSTART;TZID=America/Chicago:20220805T170000
DTEND;TZID=America/Chicago:20220805T220000
SEQUENCE:0
URL:https://maroonation.missouristate.edu/s/1691/start.aspx?sid=1691&amp;gid=2
 &amp;pgid=2821&amp;content_id=2554
CATEGORIES:Public,Alumni,Current Students,Faculty,Future Students,Staff
END:VEVENT
END:VCALENDAR