BEGIN:VCALENDAR
VERSION:2.0
METHOD:PUBLISH
PRODID:-//Missouri State University/Calendar of Events//EN
CALSCALE:GREGORIAN
X-WR-TIMEZONE:America/Chicago
BEGIN:VTIMEZONE
TZID:America/Chicago
BEGIN:DAYLIGHT
TZOFFSETFROM:-0600
TZOFFSETTO:-0500
DTSTART:20070311T020000
RRULE:FREQ=YEARLY;BYMONTH=3;BYDAY=2SU
TZNAME:CDT
END:DAYLIGHT
BEGIN:STANDARD
TZOFFSETFROM:-0500
TZOFFSETTO:-0600
DTSTART:20071104T020000
RRULE:FREQ=YEARLY;BYMONTH=11;BYDAY=1SU
TZNAME:CST
END:STANDARD
END:VTIMEZONE
BEGIN:VEVENT
UID:ec57d4f6-7424-4053-b49c-b83cbf47395a.220904@calendar.missouristate.edu
CREATED:20220606T183414Z
LAST-MODIFIED:20220606T183414Z
LOCATION:
SUMMARY:Citizen Bears and Beyond
DESCRIPTION:Missouri State University’s public affairs mission focuses on 
 how to lead ethically\, contribute to community and respect multiple pers
 pectives and cultures.  How do members of the Springfield/Greene County a
 rea and Missouri State University collaborate to move from words to deeds
  for community success? How can students\, and community members alike\, 
 utilize the public affairs mission to help find and maintain their passio
 n for meaningful causes? In what ways can MSU Citizen Bears\, in college 
 and beyond\, utilize their resources and time for a positive impact in th
 eir communities? 
X-ALT-DESC;FMTTYPE=text/html:&lt;html&gt;&lt;head&gt;&lt;title&gt;&lt;/title&gt;&lt;/head&gt;&lt;body&gt;&lt;p&gt;&lt;s
 pan&gt;Missouri State University’s public affairs mission focuses on how to 
 lead ethically\, contribute to community and respect multiple perspective
 s and cultures. &amp;nbsp\;How do members of the Springfield/Greene County ar
 ea and Missouri State University collaborate to move from words to deeds 
 for community success? How can students\, and community members alike\, u
 tilize the public affairs mission to help find and maintain their passion
  for meaningful causes? In what ways can MSU Citizen Bears\, in college a
 nd beyond\, utilize their resources and time for a positive impact in the
 ir communities?&amp;nbsp\;&lt;/span&gt;&lt;/p&gt;&lt;/body&gt;&lt;/html&gt;
DTSTART;TZID=America/Chicago:20220921T153500
DTEND;TZID=America/Chicago:20220921T162500
SEQUENCE:0
URL:https://publicaffairs.missouristate.edu/conference
CATEGORIES:Public,Alumni,Current Students,Faculty,Future Students,Staff
END:VEVENT
END:VCALENDAR