BEGIN:VCALENDAR
VERSION:2.0
METHOD:PUBLISH
PRODID:-//Missouri State University/Calendar of Events//EN
CALSCALE:GREGORIAN
X-WR-TIMEZONE:America/Chicago
BEGIN:VTIMEZONE
TZID:America/Chicago
BEGIN:DAYLIGHT
TZOFFSETFROM:-0600
TZOFFSETTO:-0500
DTSTART:20070311T020000
RRULE:FREQ=YEARLY;BYMONTH=3;BYDAY=2SU
TZNAME:CDT
END:DAYLIGHT
BEGIN:STANDARD
TZOFFSETFROM:-0500
TZOFFSETTO:-0600
DTSTART:20071104T020000
RRULE:FREQ=YEARLY;BYMONTH=11;BYDAY=1SU
TZNAME:CST
END:STANDARD
END:VTIMEZONE
BEGIN:VEVENT
UID:8da947f4-91cb-40df-a0f4-cf8239f9f601.220906@calendar.missouristate.edu
CREATED:20220606T184041Z
LAST-MODIFIED:20220606T184041Z
LOCATION:
SUMMARY:Better Living through Art: Aesthetics and Application
DESCRIPTION:Modern economic and political strains can make it hard to prio
 ritize the beautiful\, but art plays a vital role in individual and socia
 l health. As John F. Kennedy said\, art\, as a “form of truth\,” can “nou
 rish the roots of our culture.” Beyond art for its own sake\, society ben
 efits from those who fuse art with the application: architects imagine bu
 ildings that are inclusive and lovely\, actors and directors create theat
 er that is emotionally powerful and socially conscious\, and writers expo
 se brutal truths of human crises and yet remind us of our humanity\, grap
 hic designers create work of inspiration and functional in its communicat
 ion\, and the list goes on. How can artistic collaborations work across m
 ultiple disciplines to affect the world both abstractly and concretely? H
 ow can artistic “deeds” be recognized and encouraged for all their purpos
 es throughout the community?
X-ALT-DESC;FMTTYPE=text/html:&lt;html&gt;&lt;head&gt;&lt;title&gt;&lt;/title&gt;&lt;/head&gt;&lt;body&gt;&lt;p&gt;&lt;s
 pan&gt;Modern economic and political strains can make it hard to prioritize 
 the beautiful\, but art plays a vital role in individual and social healt
 h. As John F. Kennedy said\, art\, as a “form of truth\,” can “nourish th
 e roots of our culture.” Beyond art for its own sake\, society benefits f
 rom those who fuse art with the application: architects imagine buildings
  that are inclusive and lovely\, actors and directors create theater that
  is emotionally powerful and socially conscious\, and writers expose brut
 al truths of human crises and yet remind us of our humanity\, graphic des
 igners create work of inspiration and functional in its communication\, a
 nd the list goes on. How can artistic collaborations work across multiple
  disciplines to affect the world both abstractly and concretely? How can 
 artistic “deeds” be recognized and encouraged for all their purposes thro
 ughout the community?&lt;/span&gt;&lt;/p&gt;&lt;/body&gt;&lt;/html&gt;
DTSTART;TZID=America/Chicago:20220922T093000
DTEND;TZID=America/Chicago:20220922T102000
SEQUENCE:0
URL:https://publicaffairs.missouristate.edu/conference
CATEGORIES:Public,Alumni,Current Students,Faculty,Future Students,Staff
END:VEVENT
END:VCALENDAR