BEGIN:VCALENDAR
VERSION:2.0
METHOD:PUBLISH
PRODID:-//Missouri State University/Calendar of Events//EN
CALSCALE:GREGORIAN
X-WR-TIMEZONE:America/Chicago
BEGIN:VTIMEZONE
TZID:America/Chicago
BEGIN:DAYLIGHT
TZOFFSETFROM:-0600
TZOFFSETTO:-0500
DTSTART:20070311T020000
RRULE:FREQ=YEARLY;BYMONTH=3;BYDAY=2SU
TZNAME:CDT
END:DAYLIGHT
BEGIN:STANDARD
TZOFFSETFROM:-0500
TZOFFSETTO:-0600
DTSTART:20071104T020000
RRULE:FREQ=YEARLY;BYMONTH=11;BYDAY=1SU
TZNAME:CST
END:STANDARD
END:VTIMEZONE
BEGIN:VEVENT
UID:1e1773f8-12e2-4369-b778-6210f3a58ab1.220913@calendar.missouristate.edu
CREATED:20220803T170951Z
LAST-MODIFIED:20220803T170951Z
LOCATION:Plaster Student Union\, Robert W. Theater
SUMMARY:An Evening with Zach Anner
DESCRIPTION:Zach Anner\, an award-winning comedian\, show host and TV writ
 er will present at our closing Public Affairs Conference event.
X-ALT-DESC;FMTTYPE=text/html:&lt;html&gt;&lt;head&gt;&lt;title&gt;&lt;/title&gt;&lt;/head&gt;&lt;body&gt;&lt;p&gt;Za
 ch Anner\, an aw&lt;span&gt;ard-winning comedian\, show host and TV writer will
  present at our closing Public Affairs Conference event.&lt;/span&gt;&lt;/p&gt;&lt;/body
 &gt;&lt;/html&gt;
DTSTART;TZID=America/Chicago:20220922T190000
DTEND;TZID=America/Chicago:20220922T200000
SEQUENCE:0
URL:https://publicaffairs.missouristate.edu/conference
CATEGORIES:Public,Alumni,Current Students,Faculty,Future Students,Staff
END:VEVENT
END:VCALENDAR