BEGIN:VCALENDAR
VERSION:2.0
METHOD:PUBLISH
PRODID:-//Missouri State University/Calendar of Events//EN
CALSCALE:GREGORIAN
X-WR-TIMEZONE:America/Chicago
BEGIN:VTIMEZONE
TZID:America/Chicago
BEGIN:DAYLIGHT
TZOFFSETFROM:-0600
TZOFFSETTO:-0500
DTSTART:20070311T020000
RRULE:FREQ=YEARLY;BYMONTH=3;BYDAY=2SU
TZNAME:CDT
END:DAYLIGHT
BEGIN:STANDARD
TZOFFSETFROM:-0500
TZOFFSETTO:-0600
DTSTART:20071104T020000
RRULE:FREQ=YEARLY;BYMONTH=11;BYDAY=1SU
TZNAME:CST
END:STANDARD
END:VTIMEZONE
BEGIN:VEVENT
UID:9e5ed5b2-16a9-4b9f-b69f-e5a95b8972e7.220915@calendar.missouristate.edu
CREATED:20220608T134508Z
LAST-MODIFIED:20220608T134508Z
LOCATION:Plaster Student Union\, Robert W. 308
SUMMARY:You CAN Afford to Study Abroad!
DESCRIPTION:The Office of Education Abroad and Financial Aid will present\
 , You CAN Afford to Study Abroad! Vicky White\, financial aid counselor\,
  and Elizabeth Strong\, Education Abroad director\, will share how studen
 ts can apply their financial aid and scholarships to their time abroad.\n
 \n\nThey will also provide MSU and external scholarship information with 
 a focus on the Gilman scholarship. So join us for this financial-focused 
 session as you plan your future education abroad experience!
X-ALT-DESC;FMTTYPE=text/html:&lt;html&gt;&lt;head&gt;&lt;title&gt;&lt;/title&gt;&lt;/head&gt;&lt;body&gt;&lt;p&gt;Th
 e Office of Education Abroad and Financial Aid will present\, You CAN Aff
 ord to Study Abroad! Vicky White\, financial aid counselor\, and Elizabet
 h Strong\, Education Abroad director\, will share how students can apply 
 their financial aid and scholarships to their time abroad.&lt;/p&gt;\n&lt;p&gt;They w
 ill also provide MSU and external scholarship information with a focus on
  the Gilman scholarship. So join us for this financial-focused session as
  you plan your future education abroad experience!&lt;/p&gt;&lt;/body&gt;&lt;/html&gt;
DTSTART;TZID=America/Chicago:20220914T153000
DTEND;TZID=America/Chicago:20220914T163000
SEQUENCE:0
URL:https://international.missouristate.edu/educationabroad/
CATEGORIES:Current Students
END:VEVENT
END:VCALENDAR