BEGIN:VCALENDAR
VERSION:2.0
METHOD:PUBLISH
PRODID:-//Missouri State University/Calendar of Events//EN
CALSCALE:GREGORIAN
X-WR-TIMEZONE:America/Chicago
BEGIN:VTIMEZONE
TZID:America/Chicago
BEGIN:DAYLIGHT
TZOFFSETFROM:-0600
TZOFFSETTO:-0500
DTSTART:20070311T020000
RRULE:FREQ=YEARLY;BYMONTH=3;BYDAY=2SU
TZNAME:CDT
END:DAYLIGHT
BEGIN:STANDARD
TZOFFSETFROM:-0500
TZOFFSETTO:-0600
DTSTART:20071104T020000
RRULE:FREQ=YEARLY;BYMONTH=11;BYDAY=1SU
TZNAME:CST
END:STANDARD
END:VTIMEZONE
BEGIN:VEVENT
UID:9d9987fd-5be6-4652-ab5b-1d9731449df5.220921@calendar.missouristate.edu
CREATED:20220610T165948Z
LAST-MODIFIED:20220610T165948Z
LOCATION:Plaster Student Union\, Robert W. PSU Atrium
SUMMARY:Public Affairs Trivia
DESCRIPTION:Come win some gift cards to all your favorite spots in Springf
 ield while learning about public affairs!
X-ALT-DESC;FMTTYPE=text/html:&lt;html&gt;&lt;head&gt;&lt;title&gt;&lt;/title&gt;&lt;/head&gt;&lt;body&gt;&lt;p&gt;Co
 me win some gift cards to all your favorite spots in Springfield while le
 arning about public affairs!&lt;/p&gt;&lt;/body&gt;&lt;/html&gt;
DTSTART;TZID=America/Chicago:20220823T120000
DTEND;TZID=America/Chicago:20220823T130000
SEQUENCE:0
URL:115984.jpg
CATEGORIES:Current Students
END:VEVENT
END:VCALENDAR