BEGIN:VCALENDAR
VERSION:2.0
METHOD:PUBLISH
PRODID:-//Missouri State University/Calendar of Events//EN
CALSCALE:GREGORIAN
X-WR-TIMEZONE:America/Chicago
BEGIN:VTIMEZONE
TZID:America/Chicago
BEGIN:DAYLIGHT
TZOFFSETFROM:-0600
TZOFFSETTO:-0500
DTSTART:20070311T020000
RRULE:FREQ=YEARLY;BYMONTH=3;BYDAY=2SU
TZNAME:CDT
END:DAYLIGHT
BEGIN:STANDARD
TZOFFSETFROM:-0500
TZOFFSETTO:-0600
DTSTART:20071104T020000
RRULE:FREQ=YEARLY;BYMONTH=11;BYDAY=1SU
TZNAME:CST
END:STANDARD
END:VTIMEZONE
BEGIN:VEVENT
UID:abca3f26-b7da-464f-b9b0-0d8ee1f3ca30.220923@calendar.missouristate.edu
CREATED:20220614T152718Z
LAST-MODIFIED:20220614T152718Z
LOCATION:
SUMMARY:Away Game Trip sponsored by Traditions Council
DESCRIPTION:Students from MSU will take a bus to Fayetteville\, Arkansas t
 o watch the Bears take on the Razorbacks in football.\n\n\nTickets will b
 e provided by Traditions Council as well as snacks for the bus and a t-sh
 irt to wear at the game.\n\n\nThe bus will leave from Bear Park North at 
 3:30pm and should arrive at Razorback stadium by 6:00pm. The bus will lea
 ve after the end of the game\, and students will be dropped back off at B
 ear Park North at approximately 11:30pm. 
X-ALT-DESC;FMTTYPE=text/html:&lt;html&gt;&lt;head&gt;&lt;title&gt;&lt;/title&gt;&lt;/head&gt;&lt;body&gt;&lt;p&gt;St
 udents from MSU will take a bus to Fayetteville\, Arkansas to watch the B
 ears take on the Razorbacks in football.&lt;/p&gt;\n&lt;p&gt;Tickets will be provided
  by Traditions Council as well as snacks for the bus and a t-shirt to wea
 r at the game.&lt;/p&gt;\n&lt;p&gt;The bus will leave from Bear Park North at 3:30pm 
 and should arrive at Razorback stadium by 6:00pm. The bus will leave afte
 r the end of the game\, and students will be dropped back off at Bear Par
 k North at approximately 11:30pm.&amp;nbsp\;&lt;/p&gt;&lt;/body&gt;&lt;/html&gt;
DTSTART;TZID=America/Chicago:20220917T150000
DTEND;TZID=America/Chicago:20220917T233000
SEQUENCE:0
URL:115986.png
CATEGORIES:Current Students
END:VEVENT
END:VCALENDAR