BEGIN:VCALENDAR
VERSION:2.0
METHOD:PUBLISH
PRODID:-//Missouri State University/Calendar of Events//EN
CALSCALE:GREGORIAN
X-WR-TIMEZONE:America/Chicago
BEGIN:VTIMEZONE
TZID:America/Chicago
BEGIN:DAYLIGHT
TZOFFSETFROM:-0600
TZOFFSETTO:-0500
DTSTART:20070311T020000
RRULE:FREQ=YEARLY;BYMONTH=3;BYDAY=2SU
TZNAME:CDT
END:DAYLIGHT
BEGIN:STANDARD
TZOFFSETFROM:-0500
TZOFFSETTO:-0600
DTSTART:20071104T020000
RRULE:FREQ=YEARLY;BYMONTH=11;BYDAY=1SU
TZNAME:CST
END:STANDARD
END:VTIMEZONE
BEGIN:VEVENT
UID:c90b47f6-57f6-4d19-ad62-5775f57d289f.220924@calendar.missouristate.edu
CREATED:20220614T153027Z
LAST-MODIFIED:20220614T153027Z
LOCATION:
SUMMARY:Field Day sponsored by Traditions Council
DESCRIPTION:This event is part of Homecoming Week.\n\n\nThere are games pl
 ayed by teams competing to win points for their organization. Field Day w
 ill take place in the FRC on Oct. 26.
X-ALT-DESC;FMTTYPE=text/html:&lt;html&gt;&lt;head&gt;&lt;title&gt;&lt;/title&gt;&lt;/head&gt;&lt;body&gt;&lt;p&gt;Th
 is event is part of Homecoming Week.&lt;/p&gt;\n&lt;p&gt;There are games played by te
 ams competing to win points for their organization. Field Day will take p
 lace in the FRC on&amp;nbsp\;Oct. 26.&lt;/p&gt;&lt;/body&gt;&lt;/html&gt;
DTSTART;TZID=America/Chicago:20221026T160000
DTEND;TZID=America/Chicago:20221026T193000
SEQUENCE:1
URL:https://calendar.missouristate.edu/viewevent.aspx?eventid=115987&amp;occur
 renceid=220924
CATEGORIES:Current Students
END:VEVENT
END:VCALENDAR