BEGIN:VCALENDAR
VERSION:2.0
METHOD:PUBLISH
PRODID:-//Missouri State University/Calendar of Events//EN
CALSCALE:GREGORIAN
X-WR-TIMEZONE:America/Chicago
BEGIN:VTIMEZONE
TZID:America/Chicago
BEGIN:DAYLIGHT
TZOFFSETFROM:-0600
TZOFFSETTO:-0500
DTSTART:20070311T020000
RRULE:FREQ=YEARLY;BYMONTH=3;BYDAY=2SU
TZNAME:CDT
END:DAYLIGHT
BEGIN:STANDARD
TZOFFSETFROM:-0500
TZOFFSETTO:-0600
DTSTART:20071104T020000
RRULE:FREQ=YEARLY;BYMONTH=11;BYDAY=1SU
TZNAME:CST
END:STANDARD
END:VTIMEZONE
BEGIN:VEVENT
UID:457a8918-9f23-4ae9-bd55-8d70153e2127.220925@calendar.missouristate.edu
CREATED:20220614T152851Z
LAST-MODIFIED:20220614T152851Z
LOCATION:
SUMMARY:Pumpkin Bust sponsored by Traditions Council 
DESCRIPTION:Pumpkin Bust is a great way to release some midterm stress!\n\
 n\nCome to the PSU North Mall - right in front of the Bear statue - to pi
 ck your pumpkin to smash with a sledgehammer.\n\n\nThis is a free event f
 or students. 
X-ALT-DESC;FMTTYPE=text/html:&lt;html&gt;&lt;head&gt;&lt;title&gt;&lt;/title&gt;&lt;/head&gt;&lt;body&gt;&lt;p&gt;Pu
 mpkin Bust is a great way to release some midterm stress!&lt;/p&gt;\n&lt;p&gt;Come to
  the PSU North Mall - right in front of the Bear statue - to pick your pu
 mpkin to smash with a sledgehammer.&lt;/p&gt;\n&lt;p&gt;This&amp;nbsp\;is a free event fo
 r students.&amp;nbsp\;&lt;/p&gt;&lt;/body&gt;&lt;/html&gt;
DTSTART;TZID=America/Chicago:20221021T130000
DTEND;TZID=America/Chicago:20221021T160000
SEQUENCE:0
URL:https://calendar.missouristate.edu/viewevent.aspx?eventid=115988&amp;occur
 renceid=220925
CATEGORIES:Public,Current Students
END:VEVENT
END:VCALENDAR