BEGIN:VCALENDAR
VERSION:2.0
METHOD:PUBLISH
PRODID:-//Missouri State University/Calendar of Events//EN
CALSCALE:GREGORIAN
X-WR-TIMEZONE:America/Chicago
BEGIN:VTIMEZONE
TZID:America/Chicago
BEGIN:DAYLIGHT
TZOFFSETFROM:-0600
TZOFFSETTO:-0500
DTSTART:20070311T020000
RRULE:FREQ=YEARLY;BYMONTH=3;BYDAY=2SU
TZNAME:CDT
END:DAYLIGHT
BEGIN:STANDARD
TZOFFSETFROM:-0500
TZOFFSETTO:-0600
DTSTART:20071104T020000
RRULE:FREQ=YEARLY;BYMONTH=11;BYDAY=1SU
TZNAME:CST
END:STANDARD
END:VTIMEZONE
BEGIN:VEVENT
UID:175edc2a-8335-438c-bf9c-aecc772a3401.220933@calendar.missouristate.edu
CREATED:20220614T161031Z
LAST-MODIFIED:20220614T161031Z
LOCATION:
SUMMARY:House Calls
DESCRIPTION:Residence Life\, Housing and Dining Services invites you to jo
 in us in creating a welcoming Missouri State experience for our fall 2022
  students through our tradition of House Calls. This program allows stude
 nts to interact with faculty and staff members outside the formal classro
 om and office environments.\n\n\nThe purpose of this program is to create
  a connection between faculty/staff members and students with the goal of
  helping students feel welcome on campus\, and provide information about 
 additional resources at the university.\n\n\nFaculty and staff members wh
 o choose to participate in House Calls will be paired with a Residence Li
 fe student leader and have the opportunity to visit floors in a residence
  hall and go door-to-door meeting students\, answering their questions an
 d welcoming them to the university.\n\n\nHouse Calls volunteers are provi
 ded with official MSU apparel the evening of the event. Information will 
 be emailed to volunteers during the summer with specific details and reso
 urces.
X-ALT-DESC;FMTTYPE=text/html:&lt;html&gt;&lt;head&gt;&lt;title&gt;&lt;/title&gt;&lt;/head&gt;&lt;body&gt;&lt;p&gt;&lt;s
 pan&gt;Residence Life\, Housing and Dining Services invites you to join us i
 n creating a welcoming Missouri State experience for our fall 2022 studen
 ts through our tradition of&amp;nbsp\;&lt;b&gt;House Calls&lt;/b&gt;. This program allows
  students to interact with faculty and staff members outside the formal c
 lassroom and office environments.&lt;/span&gt;&lt;/p&gt;\n&lt;p&gt;The purpose of this prog
 ram is to create a connection between faculty/staff members and students 
 with the goal of helping students feel welcome on campus\, and provide in
 formation about additional resources at the university.&lt;/p&gt;\n&lt;p&gt;Faculty a
 nd staff members who choose to participate in House Calls will be paired 
 with a Residence Life student leader and have the opportunity to visit fl
 oors in a residence hall and go door-to-door meeting students\, answering
  their questions and welcoming them to the university.&lt;/p&gt;\n&lt;p&gt;House Call
 s volunteers are provided with official MSU apparel the evening of the ev
 ent. Information will be emailed to volunteers during the summer with spe
 cific details and resources.&lt;/p&gt;&lt;/body&gt;&lt;/html&gt;
DTSTART;TZID=America/Chicago:20220831T171500
DTEND;TZID=America/Chicago:20220831T200000
SEQUENCE:0
URL:https://reslife.missouristate.edu/housecalls.htm
CATEGORIES:Faculty,Staff
END:VEVENT
END:VCALENDAR