BEGIN:VCALENDAR
VERSION:2.0
METHOD:PUBLISH
PRODID:-//Missouri State University/Calendar of Events//EN
CALSCALE:GREGORIAN
X-WR-TIMEZONE:America/Chicago
BEGIN:VTIMEZONE
TZID:America/Chicago
BEGIN:DAYLIGHT
TZOFFSETFROM:-0600
TZOFFSETTO:-0500
DTSTART:20070311T020000
RRULE:FREQ=YEARLY;BYMONTH=3;BYDAY=2SU
TZNAME:CDT
END:DAYLIGHT
BEGIN:STANDARD
TZOFFSETFROM:-0500
TZOFFSETTO:-0600
DTSTART:20071104T020000
RRULE:FREQ=YEARLY;BYMONTH=11;BYDAY=1SU
TZNAME:CST
END:STANDARD
END:VTIMEZONE
BEGIN:VEVENT
UID:a5091da9-0e0b-464a-96dc-f872a0cb2762.221050@calendar.missouristate.edu
CREATED:20220615T051506Z
LAST-MODIFIED:20220615T051506Z
LOCATION:Allison Stadium South
SUMMARY:Missouri State University Women's Soccer vs Kansas City - Tribute
DESCRIPTION:Missouri State University Women's Soccer hosts Kansas City - 9
 /11 Tribute
X-ALT-DESC;FMTTYPE=text/html:&lt;html&gt;&lt;head&gt;&lt;title&gt;&lt;/title&gt;&lt;/head&gt;&lt;body&gt;Misso
 uri State University Women's Soccer hosts Kansas City - 9/11 Tribute&lt;/bod
 y&gt;&lt;/html&gt;
DTSTART;TZID=America/Chicago:20220911T140000
DTEND;TZID=America/Chicago:20220911T160000
SEQUENCE:0
URL:http://missouristatebears.com/index.aspx?path=wsoc
CATEGORIES:Current Students,Future Students,Parents and Family,Alumni,
 Faculty,Staff,Community,Visitors,Athletics
END:VEVENT
END:VCALENDAR