BEGIN:VCALENDAR
VERSION:2.0
METHOD:PUBLISH
PRODID:-//Missouri State University/Calendar of Events//EN
CALSCALE:GREGORIAN
X-WR-TIMEZONE:America/Chicago
BEGIN:VTIMEZONE
TZID:America/Chicago
BEGIN:DAYLIGHT
TZOFFSETFROM:-0600
TZOFFSETTO:-0500
DTSTART:20070311T020000
RRULE:FREQ=YEARLY;BYMONTH=3;BYDAY=2SU
TZNAME:CDT
END:DAYLIGHT
BEGIN:STANDARD
TZOFFSETFROM:-0500
TZOFFSETTO:-0600
DTSTART:20071104T020000
RRULE:FREQ=YEARLY;BYMONTH=11;BYDAY=1SU
TZNAME:CST
END:STANDARD
END:VTIMEZONE
BEGIN:VEVENT
UID:b5ee1f47-2d3a-4a20-aed4-ee50f7a0cc82.221051@calendar.missouristate.edu
CREATED:20220615T051506Z
LAST-MODIFIED:20220615T051506Z
LOCATION:Allison Stadium South
SUMMARY:Missouri State University Women's Soccer vs Evansville - WSOC Camp
 er Day
DESCRIPTION:Missouri State University Women's Soccer hosts Evansville - WS
 OC Camper Day
X-ALT-DESC;FMTTYPE=text/html:&lt;html&gt;&lt;head&gt;&lt;title&gt;&lt;/title&gt;&lt;/head&gt;&lt;body&gt;Misso
 uri State University Women's Soccer hosts Evansville - WSOC Camper Day&lt;/b
 ody&gt;&lt;/html&gt;
DTSTART;TZID=America/Chicago:20220918T130000
DTEND;TZID=America/Chicago:20220918T150000
SEQUENCE:0
URL:http://missouristatebears.com/index.aspx?path=wsoc
CATEGORIES:Current Students,Future Students,Parents and Family,Alumni,
 Faculty,Staff,Community,Visitors,Athletics
END:VEVENT
END:VCALENDAR