BEGIN:VCALENDAR
VERSION:2.0
METHOD:PUBLISH
PRODID:-//Missouri State University/Calendar of Events//EN
CALSCALE:GREGORIAN
X-WR-TIMEZONE:America/Chicago
BEGIN:VTIMEZONE
TZID:America/Chicago
BEGIN:DAYLIGHT
TZOFFSETFROM:-0600
TZOFFSETTO:-0500
DTSTART:20070311T020000
RRULE:FREQ=YEARLY;BYMONTH=3;BYDAY=2SU
TZNAME:CDT
END:DAYLIGHT
BEGIN:STANDARD
TZOFFSETFROM:-0500
TZOFFSETTO:-0600
DTSTART:20071104T020000
RRULE:FREQ=YEARLY;BYMONTH=11;BYDAY=1SU
TZNAME:CST
END:STANDARD
END:VTIMEZONE
BEGIN:VEVENT
UID:8b34257a-7992-4c97-bf9e-7a1841abe639.221059@calendar.missouristate.edu
CREATED:20220615T051507Z
LAST-MODIFIED:20220615T051507Z
LOCATION:Allison Stadium South
SUMMARY:Missouri State University Women's Soccer vs UIC - Senior Night
DESCRIPTION:Missouri State University Women's Soccer hosts UIC - Senior Ni
 ght
X-ALT-DESC;FMTTYPE=text/html:&lt;html&gt;&lt;head&gt;&lt;title&gt;&lt;/title&gt;&lt;/head&gt;&lt;body&gt;Misso
 uri State University Women's Soccer hosts UIC - Senior Night&lt;/body&gt;&lt;/html&gt;
DTSTART;TZID=America/Chicago:20221016T130000
DTEND;TZID=America/Chicago:20221016T150000
SEQUENCE:0
URL:http://missouristatebears.com/index.aspx?path=wsoc
CATEGORIES:Current Students,Future Students,Parents and Family,Alumni,
 Faculty,Staff,Community,Visitors,Athletics
END:VEVENT
END:VCALENDAR