BEGIN:VCALENDAR
VERSION:2.0
METHOD:PUBLISH
PRODID:-//Missouri State University/Calendar of Events//EN
CALSCALE:GREGORIAN
X-WR-TIMEZONE:America/Chicago
BEGIN:VTIMEZONE
TZID:America/Chicago
BEGIN:DAYLIGHT
TZOFFSETFROM:-0600
TZOFFSETTO:-0500
DTSTART:20070311T020000
RRULE:FREQ=YEARLY;BYMONTH=3;BYDAY=2SU
TZNAME:CDT
END:DAYLIGHT
BEGIN:STANDARD
TZOFFSETFROM:-0500
TZOFFSETTO:-0600
DTSTART:20071104T020000
RRULE:FREQ=YEARLY;BYMONTH=11;BYDAY=1SU
TZNAME:CST
END:STANDARD
END:VTIMEZONE
BEGIN:VEVENT
UID:e271f1f1-0b63-43b1-a021-270db10ece61.221061@calendar.missouristate.edu
CREATED:20220615T144859Z
LAST-MODIFIED:20220615T144859Z
LOCATION:Meyer Alumni Center\, Kenneth E. First Floor Hospitality Room
SUMMARY:MSU 62 Registration - Senior Fee Waiver Program
DESCRIPTION:In-person Special Registration Event\n\n\nEligible adults who 
 are 62 years of age or older may register for one class per fall and spri
 ng semester and have the required student fees waived. However\, the stud
 ent must pay special course fees\, required textbooks and supplies\, and 
 parking fees. Classes may be taken for credit or on an audit basis. Enrol
 lment for courses is subject to “seats available” and the required prereq
 uisites.\n\n\nQualifying students in this classification are: Missouri re
 sident\, Age 62 or older\, Nondegree-seeking students\, Enrolling in eith
 er undergraduate or graduate courses (if postbaccalaureate)\, Not able to
  apply this waiver to intersession\, special courses\, or off-campus cour
 ses\n\n\nIf you are unable to attend the registration event\, you can sti
 ll register online beginning August 18. Course information and registrati
 on materials will be made available on the program webpage.  Please note 
 that priority registration will be given to the in-person event. \n\n\nRe
 ad more about the program here. \n\n\nFor more information\, please conta
 ct Adult Student Services at 417-836-6929
X-ALT-DESC;FMTTYPE=text/html:&lt;html&gt;&lt;head&gt;&lt;title&gt;&lt;/title&gt;&lt;/head&gt;&lt;body&gt;&lt;p&gt;&lt;s
 trong&gt;In-person Special Registration Event&lt;/strong&gt;&lt;/p&gt;\n&lt;p&gt;Eligible adul
 ts who are 62 years of age or older may register for one class per fall a
 nd spring semester and have the required student fees waived. However\, t
 he student must pay special course fees\, required textbooks and supplies
 \, and parking fees. Classes may be taken for credit or on an audit basis
 . Enrollment for courses is subject to “seats available” and the required
  prerequisites.&lt;/p&gt;\n&lt;p&gt;Qualifying students in this classification are: M
 issouri resident\, Age 62 or older\, Nondegree-seeking students\, Enrolli
 ng in either undergraduate or graduate courses (if postbaccalaureate)\, N
 ot able to apply this waiver to intersession\, special courses\, or off-c
 ampus&amp;nbsp\;courses&lt;/p&gt;\n&lt;p&gt;If you are unable to attend the registration 
 event\, you can still register online beginning August 18. Course informa
 tion and registration materials will be made available on&amp;nbsp\;the progr
 am webpage. &amp;nbsp\;Please note that priority registration will be given t
 o the in-person event.&amp;nbsp\;&lt;/p&gt;\n&lt;p&gt;Read more about the program &lt;a href
 ="https://adultstudents.missouristate.edu/msu62.htm"&gt;here&lt;/a&gt;.&amp;nbsp\;&lt;/p&gt;
 \n&lt;p&gt;For more information\, please contact&amp;nbsp\;&lt;a href="https://adultst
 udents.missouristate.edu/"&gt;Adult Student Services&lt;/a&gt; at 417-836-6929&lt;/p&gt;
 \n&lt;p&gt;&lt;/p&gt;\n&lt;p&gt;&lt;/p&gt;&lt;/body&gt;&lt;/html&gt;
DTSTART;TZID=America/Chicago:20220818T090000
DTEND;TZID=America/Chicago:20220818T120000
SEQUENCE:0
URL:https://adultstudents.missouristate.edu/msu62.htm
CATEGORIES:Public,Alumni,Current Students,Faculty,Future Students,Staff
END:VEVENT
END:VCALENDAR