BEGIN:VCALENDAR
VERSION:2.0
METHOD:PUBLISH
PRODID:-//Missouri State University/Calendar of Events//EN
CALSCALE:GREGORIAN
X-WR-TIMEZONE:America/Chicago
BEGIN:VTIMEZONE
TZID:America/Chicago
BEGIN:DAYLIGHT
TZOFFSETFROM:-0600
TZOFFSETTO:-0500
DTSTART:20070311T020000
RRULE:FREQ=YEARLY;BYMONTH=3;BYDAY=2SU
TZNAME:CDT
END:DAYLIGHT
BEGIN:STANDARD
TZOFFSETFROM:-0500
TZOFFSETTO:-0600
DTSTART:20071104T020000
RRULE:FREQ=YEARLY;BYMONTH=11;BYDAY=1SU
TZNAME:CST
END:STANDARD
END:VTIMEZONE
BEGIN:VEVENT
UID:0ff47800-ad12-4c04-af1f-273673e9c452.221133@calendar.missouristate.edu
CREATED:20220627T204201Z
LAST-MODIFIED:20220627T204201Z
LOCATION:Ellis Hall C. Minor Recital Hall (220)
SUMMARY:MFAA Guest Artist Recital: Jason Hausback\, Bass Trombone
DESCRIPTION:The Missouri Fine Arts Academy (MFAA) presents a Guest Artist 
 Music Recital by Dr. Jason Hausback on trombone and Dr. Wei-Han Su on pia
 no.\n\n\nHausback is an associate professor of music at Missouri State Un
 iversity and is also teaching for the MFAA.\n\n\nThe recital will present
  works for trombone that cover a wide span of composers/styles/viewpoints
 . The performance is meant to be interdisciplinary\, with descriptions of
  the works and ties to visual art/literature. There will be a discussion 
 of the works presented along with an opportunity to ask the performers qu
 estions.
X-ALT-DESC;FMTTYPE=text/html:&lt;html&gt;&lt;head&gt;&lt;title&gt;&lt;/title&gt;&lt;/head&gt;&lt;body&gt;&lt;p&gt;Th
 e Missouri Fine Arts Academy (MFAA) presents a Guest Artist Music Recital
  by&amp;nbsp\;&lt;a href="https://www.missouristate.edu/music/jhausback.aspx" ta
 rget="_blank"&gt;Dr. Jason Hausback&lt;/a&gt; on trombone and&amp;nbsp\;&lt;a href="https
 ://www.missouristate.edu/music/weihansu.aspx" target="_blank"&gt;Dr. Wei-Han
  Su&lt;/a&gt; on piano.&lt;/p&gt;\n&lt;p&gt;Hausback is an associate professor of music at 
 Missouri State University and is also teaching for the MFAA.&lt;/p&gt;\n&lt;p&gt;The 
 recital will present works for trombone that cover a wide span of compose
 rs/styles/viewpoints. The performance is meant to be interdisciplinary\, 
 with descriptions of the works and ties to visual art/literature. There w
 ill be a discussion of the works presented along with an opportunity to a
 sk the performers questions.&lt;/p&gt;&lt;/body&gt;&lt;/html&gt;
DTSTART;TZID=America/Chicago:20220621T173000
DTEND;TZID=America/Chicago:20220621T183000
SEQUENCE:0
URL:https://www.facebook.com/msutrombones
CATEGORIES:Public,Alumni,Current Students,Faculty,Future Students,Staff
END:VEVENT
END:VCALENDAR